BEGIN:VCALENDAR
VERSION:2.0
PRODID:-//Indian Link - ECPv6.15.20//NONSGML v1.0//EN
CALSCALE:GREGORIAN
METHOD:PUBLISH
X-ORIGINAL-URL:https://www.indianlink.com.au
X-WR-CALDESC:Events for Indian Link
REFRESH-INTERVAL;VALUE=DURATION:PT1H
X-Robots-Tag:noindex
X-PUBLISHED-TTL:PT1H
BEGIN:VTIMEZONE
TZID:Australia/Sydney
BEGIN:STANDARD
TZOFFSETFROM:+1100
TZOFFSETTO:+1000
TZNAME:AEST
DTSTART:20250405T160000
END:STANDARD
BEGIN:DAYLIGHT
TZOFFSETFROM:+1000
TZOFFSETTO:+1100
TZNAME:AEDT
DTSTART:20251004T160000
END:DAYLIGHT
BEGIN:STANDARD
TZOFFSETFROM:+1100
TZOFFSETTO:+1000
TZNAME:AEST
DTSTART:20260404T160000
END:STANDARD
BEGIN:DAYLIGHT
TZOFFSETFROM:+1000
TZOFFSETTO:+1100
TZNAME:AEDT
DTSTART:20261003T160000
END:DAYLIGHT
BEGIN:STANDARD
TZOFFSETFROM:+1100
TZOFFSETTO:+1000
TZNAME:AEST
DTSTART:20270403T160000
END:STANDARD
BEGIN:DAYLIGHT
TZOFFSETFROM:+1000
TZOFFSETTO:+1100
TZNAME:AEDT
DTSTART:20271002T160000
END:DAYLIGHT
END:VTIMEZONE
BEGIN:VEVENT
DTSTART;TZID=Australia/Sydney:20260418T150000
DTEND;TZID=Australia/Sydney:20260418T163000
DTSTAMP:20260423T033955
CREATED:20260416T025231Z
LAST-MODIFIED:20260416T025231Z
UID:10008888-1776524400-1776529800@www.indianlink.com.au
SUMMARY:Jennifer Wong's Stories in Progress at Flyover Fritterie
DESCRIPTION:  \n\n\nEnjoy chai and Indian street food snacks at Flyover Fritterie while comedian Jennifer Wong shares some new funny food stories in progress. \n\n\n\n\nBe the first audience for Jen’s new stories at a cosy afternoon at one of her fave places\, Flyover Fritterie: a contemporary vegetarian eatery in Redfern celebrating the big bold flavours of Indian street food\, and the untold stories of its makers. \nYour ticket goes straight towards Flyover deliciousness: \n\nginger cardamom chai (hot or iced)\neither Aloo Tikki (potato fritter\, spiced chana daal\, yoghurt\, tamarind\, mint)\, or Coconut Lime Daal Khichri (Masoor lentil\, basmati rice\, quinoa\, black chickpeas\, house tamarind chutney\, coconut crunch\, seasonal fritters)\nseasonal dessert\n\nAdditional drinks and snacks will be available to order\, and vegan options can be accommodated! \nJennifer Wong is a Sydney comedian\, creator/host of FEAST\, and presenter/co-author of Chopsticks or Fork?: Recipes and Stories from Australia’s Regional Chinese Restaurants. \nThis will be an intimate storytelling and snacking event limited to 25 people\, in a fully accessible venue. \n\n\nGET TICKETS HERE: Jennifer Wong’s Stories in Progress at Flyover Fritterie: April 2026 Tickets\, Saturday\, April 18  •  3 PM – 4:30 PM | Eventbrite
URL:https://www.indianlink.com.au/whats-on/jennifer-wongs-stories-in-progress-at-flyover-fritterie/
LOCATION:Flyover Fritterie\, 88 Regent street\, Sydney\, New South Wales\, 2016\, Australia
ATTACH;FMTTYPE=image/webp:https://p9dzm74w.tinifycdn.com/wp-content/uploads/2026/04/image-2.webp
GEO:-33.8930205;151.1998973
X-APPLE-STRUCTURED-LOCATION;VALUE=URI;X-ADDRESS=Flyover Fritterie 88 Regent street Sydney New South Wales 2016 Australia;X-APPLE-RADIUS=500;X-TITLE=88 Regent street:geo:151.1998973,-33.8930205
END:VEVENT
END:VCALENDAR