BEGIN:VCALENDAR
VERSION:2.0
PRODID:-//Indian Link - ECPv6.15.20//NONSGML v1.0//EN
CALSCALE:GREGORIAN
METHOD:PUBLISH
X-ORIGINAL-URL:https://www.indianlink.com.au
X-WR-CALDESC:Events for Indian Link
REFRESH-INTERVAL;VALUE=DURATION:PT1H
X-Robots-Tag:noindex
X-PUBLISHED-TTL:PT1H
BEGIN:VTIMEZONE
TZID:Australia/Sydney
BEGIN:STANDARD
TZOFFSETFROM:+1100
TZOFFSETTO:+1000
TZNAME:AEST
DTSTART:20240406T160000
END:STANDARD
BEGIN:DAYLIGHT
TZOFFSETFROM:+1000
TZOFFSETTO:+1100
TZNAME:AEDT
DTSTART:20241005T160000
END:DAYLIGHT
BEGIN:STANDARD
TZOFFSETFROM:+1100
TZOFFSETTO:+1000
TZNAME:AEST
DTSTART:20250405T160000
END:STANDARD
BEGIN:DAYLIGHT
TZOFFSETFROM:+1000
TZOFFSETTO:+1100
TZNAME:AEDT
DTSTART:20251004T160000
END:DAYLIGHT
BEGIN:STANDARD
TZOFFSETFROM:+1100
TZOFFSETTO:+1000
TZNAME:AEST
DTSTART:20260404T160000
END:STANDARD
BEGIN:DAYLIGHT
TZOFFSETFROM:+1000
TZOFFSETTO:+1100
TZNAME:AEDT
DTSTART:20261003T160000
END:DAYLIGHT
END:VTIMEZONE
BEGIN:VEVENT
DTSTART;TZID=Australia/Sydney:20250816T000000
DTEND;TZID=Australia/Sydney:20250816T000000
DTSTAMP:20260423T103654
CREATED:20250722T065202Z
LAST-MODIFIED:20250722T065432Z
UID:10008406-1755302400-1755302400@www.indianlink.com.au
SUMMARY:Remitly IFFM Dance Competition
DESCRIPTION:The Remitly IFFM Dance Competition 2025 unites dancers from diverse backgrounds to celebrate creativity\, culture\, and passion on the grand stage of the Indian Film Festival of Melbourne. \nThis electrifying event is where culture blends with choreography\, and talent shines bright. Don’t miss the opportunity to be part of this dynamic celebration of dance\, diversity\, and self-expression\, judged by the iconic Malaika Arora. \nGet ready to drop the beat\, own the spotlight\, and show us your best moves\, we’re excited to cheer you on!
URL:https://www.indianlink.com.au/whats-on/remitly-iffm-dance-competition/
LOCATION:Fed Square\, Swanston St & Flinders St\,\, Melbourne\, Victoria\, 3000\, Australia
CATEGORIES:Arts,Happening in Melbourne
ATTACH;FMTTYPE=image/jpeg:https://p9dzm74w.tinifycdn.com/wp-content/uploads/2025/07/Dance-Competition.jpg
GEO:-37.8175406;144.9674005
X-APPLE-STRUCTURED-LOCATION;VALUE=URI;X-ADDRESS=Fed Square Swanston St & Flinders St Melbourne Victoria 3000 Australia;X-APPLE-RADIUS=500;X-TITLE=Swanston St & Flinders St\,:geo:144.9674005,-37.8175406
END:VEVENT
BEGIN:VEVENT
DTSTART;TZID=Australia/Sydney:20250607T150000
DTEND;TZID=Australia/Sydney:20250607T180000
DTSTAMP:20260423T103654
CREATED:20250603T073155Z
LAST-MODIFIED:20250603T073258Z
UID:10008344-1749308400-1749319200@www.indianlink.com.au
SUMMARY:Blockbuster Beats & Bites: A Desi Winter Takeover
DESCRIPTION:Fed Square’s about to turn up the heat this winter with Blockbuster\, a free\, all-ages party packed with Pakistani beats\, Punjabi eats\, and colour for days. Inspired by the Coke Studio hit of the same name\, this massive day-to-night fiesta features Aussie-first sets from stars like Faris Shafi and Annural Khalid\, plus live Qawwali\, bhangra beats\, and truck art that’s anything but subtle. Get your hands messy with block printing\, braid a paranda\, or just dance till the lights come on. It’s big\, bold\, and bursting with desi flavour. Don’t miss it.
URL:https://www.indianlink.com.au/whats-on/blockbuster-beats-bites-a-desi-winter-takeover/
LOCATION:Fed Square\, Swanston St & Flinders St\,\, Melbourne\, Victoria\, 3000\, Australia
CATEGORIES:Arts,Happening in Melbourne
ATTACH;FMTTYPE=image/jpeg:https://p9dzm74w.tinifycdn.com/wp-content/uploads/2025/06/Blockbuster.jpg
GEO:-37.8175406;144.9674005
X-APPLE-STRUCTURED-LOCATION;VALUE=URI;X-ADDRESS=Fed Square Swanston St & Flinders St Melbourne Victoria 3000 Australia;X-APPLE-RADIUS=500;X-TITLE=Swanston St & Flinders St\,:geo:144.9674005,-37.8175406
END:VEVENT
END:VCALENDAR