BEGIN:VCALENDAR
VERSION:2.0
PRODID:-//Indian Link - ECPv6.15.20//NONSGML v1.0//EN
CALSCALE:GREGORIAN
METHOD:PUBLISH
X-ORIGINAL-URL:https://www.indianlink.com.au
X-WR-CALDESC:Events for Indian Link
REFRESH-INTERVAL;VALUE=DURATION:PT1H
X-Robots-Tag:noindex
X-PUBLISHED-TTL:PT1H
BEGIN:VTIMEZONE
TZID:Australia/Sydney
BEGIN:STANDARD
TZOFFSETFROM:+1100
TZOFFSETTO:+1000
TZNAME:AEST
DTSTART:20250405T160000
END:STANDARD
BEGIN:DAYLIGHT
TZOFFSETFROM:+1000
TZOFFSETTO:+1100
TZNAME:AEDT
DTSTART:20251004T160000
END:DAYLIGHT
BEGIN:STANDARD
TZOFFSETFROM:+1100
TZOFFSETTO:+1000
TZNAME:AEST
DTSTART:20260404T160000
END:STANDARD
BEGIN:DAYLIGHT
TZOFFSETFROM:+1000
TZOFFSETTO:+1100
TZNAME:AEDT
DTSTART:20261003T160000
END:DAYLIGHT
BEGIN:STANDARD
TZOFFSETFROM:+1100
TZOFFSETTO:+1000
TZNAME:AEST
DTSTART:20270403T160000
END:STANDARD
BEGIN:DAYLIGHT
TZOFFSETFROM:+1000
TZOFFSETTO:+1100
TZNAME:AEDT
DTSTART:20271002T160000
END:DAYLIGHT
END:VTIMEZONE
BEGIN:VEVENT
DTSTART;VALUE=DATE:20260321
DTEND;VALUE=DATE:20260324
DTSTAMP:20260423T095005
CREATED:20260319T002850Z
LAST-MODIFIED:20260319T002850Z
UID:10008857-1774051200-1774310399@www.indianlink.com.au
SUMMARY:Raw Mango Sydney Trunk Show
DESCRIPTION:  \nMegha Kapoor & Fuzz Ali invite you to the Australian showcase of Raw Mango in Sydney. Please join us for a chance to meet Sanjay Garg\, the founder of Raw Mango & experience Raw Mango in Australia during a three day trunk show which will bring together craft\, culture & fashion. On display will be curated pieces from Raw Mango alongside selected pieces from Fairfax & Roberts & original artworks by Kirthana Selvaraj.\n\nThe Trunk Show will be open from 10am daily for customers to visit and purchase.\n\nGET TICKETS HERE: Raw Mango Sydney Trunk Show
URL:https://www.indianlink.com.au/whats-on/raw-mango-sydney-trunk-show/
LOCATION:Fairfax & Roberts\, Cnr King St & Sydney Arcade\, Sydney\, NSW\, 2000
ATTACH;FMTTYPE=image/jpeg:https://p9dzm74w.tinifycdn.com/wp-content/uploads/2026/03/Raw-Mango.jpg
GEO:-33.8686667;151.2063958
X-APPLE-STRUCTURED-LOCATION;VALUE=URI;X-ADDRESS=Fairfax & Roberts Cnr King St & Sydney Arcade Sydney NSW 2000;X-APPLE-RADIUS=500;X-TITLE=Cnr King St & Sydney Arcade:geo:151.2063958,-33.8686667
END:VEVENT
END:VCALENDAR