BEGIN:VCALENDAR
VERSION:2.0
PRODID:-//Indian Link - ECPv6.15.20//NONSGML v1.0//EN
CALSCALE:GREGORIAN
METHOD:PUBLISH
X-WR-CALNAME:Indian Link
X-ORIGINAL-URL:https://www.indianlink.com.au
X-WR-CALDESC:Events for Indian Link
REFRESH-INTERVAL;VALUE=DURATION:PT1H
X-Robots-Tag:noindex
X-PUBLISHED-TTL:PT1H
BEGIN:VTIMEZONE
TZID:Australia/Sydney
BEGIN:STANDARD
TZOFFSETFROM:+1100
TZOFFSETTO:+1000
TZNAME:AEST
DTSTART:20240406T160000
END:STANDARD
BEGIN:DAYLIGHT
TZOFFSETFROM:+1000
TZOFFSETTO:+1100
TZNAME:AEDT
DTSTART:20241005T160000
END:DAYLIGHT
BEGIN:STANDARD
TZOFFSETFROM:+1100
TZOFFSETTO:+1000
TZNAME:AEST
DTSTART:20250405T160000
END:STANDARD
BEGIN:DAYLIGHT
TZOFFSETFROM:+1000
TZOFFSETTO:+1100
TZNAME:AEDT
DTSTART:20251004T160000
END:DAYLIGHT
BEGIN:STANDARD
TZOFFSETFROM:+1100
TZOFFSETTO:+1000
TZNAME:AEST
DTSTART:20260404T160000
END:STANDARD
BEGIN:DAYLIGHT
TZOFFSETFROM:+1000
TZOFFSETTO:+1100
TZNAME:AEDT
DTSTART:20261003T160000
END:DAYLIGHT
END:VTIMEZONE
BEGIN:VEVENT
DTSTART;TZID=Australia/Sydney:20250906T173000
DTEND;TZID=Australia/Sydney:20250907T183000
DTSTAMP:20260423T042136
CREATED:20250820T025835Z
LAST-MODIFIED:20250820T031214Z
UID:10008449-1757179800-1757269800@www.indianlink.com.au
SUMMARY:Rowan Thambar: Home By 9PM Guaranteed - Sydney Fringe
DESCRIPTION:Love comedy but also love being tucked into bed at a reasonable hour? Rowan Thambar has you covered. Returning to Sydney with fresh material\, Rowan’s new show is all about the hilarity of turning 30—where Friday nights on the couch\, travelling with your own pillow\, and managing reflux become prime comedy fodder. \nCatch him at the Factory Theatre\, Marrickville on 6–7 September\, where you can laugh\, head out for dinner\, and still be home before 9 (well\, Sydney traffic permitting!).
URL:https://www.indianlink.com.au/whats-on/rowan-thambar-home-by-9pm-guaranteed/
LOCATION:Factory Theatre\, 105 Victoria Road\, Marrickville\, NSW\, 2204\, Australia
CATEGORIES:Arts,Happening in Sydney
ATTACH;FMTTYPE=image/jpeg:https://p9dzm74w.tinifycdn.com/wp-content/uploads/2025/08/Rowan-Thambar.jpg
GEO:-33.9086291;151.1548847
X-APPLE-STRUCTURED-LOCATION;VALUE=URI;X-ADDRESS=Factory Theatre 105 Victoria Road Marrickville NSW 2204 Australia;X-APPLE-RADIUS=500;X-TITLE=105 Victoria Road:geo:151.1548847,-33.9086291
END:VEVENT
BEGIN:VEVENT
DTSTART;TZID=Australia/Sydney:20250712T210000
DTEND;TZID=Australia/Sydney:20250712T210000
DTSTAMP:20260423T042136
CREATED:20250611T041816Z
LAST-MODIFIED:20250611T041816Z
UID:10008351-1752354000-1752354000@www.indianlink.com.au
SUMMARY:BAR BOMBAY - Queer Bollywood party
DESCRIPTION:Get ready to sparkle\, strut\, and shimmy Australia’s biggest queer Bollywood party\, BAR BOMBAY\, is back on Saturday 12 July! Expect dazzling dance acts\, fiery pyrotechnics\, and fierce drag royalty lighting up the Factory Theatre. With non-stop beats and bold vibes\, it’s the ultimate desi dancefloor takeover!
URL:https://www.indianlink.com.au/whats-on/bar-bombay-queer-bollywood-party/
LOCATION:Factory Theatre\, 105 Victoria Road\, Marrickville\, NSW\, 2204\, Australia
CATEGORIES:Food and Drink,Happening in Sydney
ATTACH;FMTTYPE=image/jpeg:https://p9dzm74w.tinifycdn.com/wp-content/uploads/2025/06/images.jpg
GEO:-33.9086291;151.1548847
X-APPLE-STRUCTURED-LOCATION;VALUE=URI;X-ADDRESS=Factory Theatre 105 Victoria Road Marrickville NSW 2204 Australia;X-APPLE-RADIUS=500;X-TITLE=105 Victoria Road:geo:151.1548847,-33.9086291
END:VEVENT
BEGIN:VEVENT
DTSTART;TZID=Australia/Sydney:20250422T190000
DTEND;TZID=Australia/Sydney:20250423T200000
DTSTAMP:20260423T042136
CREATED:20250331T014448Z
LAST-MODIFIED:20250401T233347Z
UID:10003082-1745348400-1745438400@www.indianlink.com.au
SUMMARY:Nish Kumar in Nish\, Don’t Kill My Vibe - Sydney
DESCRIPTION:  \nFollowing a UK election – with the country in turmoil – there’s only one comedian who can kill the mood even further… \nNish Kumar – one of The Guardian and The Telegraph’s 50 Best Comedians of the 21st Century – brings his brand new politically-charged stand-up show\, Nish\, Don’t Kill My Vibe\, to Australia and New Zealand following a sell-out UK tour. \nExpect jokes about climate collapse\, income inequality and the emotional sensation of being a British Indian man who didn’t vote for a British Indian Prime Minister.  Sweet\, sweet vibe killing. \nAs seen and heard on The Mash Report\, Taskmaster\, Pod Save the UK\, Live at the Apollo\, Hold the Front Page and your favourite tabloid newspaper. \nGET TICKETS HERE: Nish Kumar In Nish\, Don’t Kill My Vibe
URL:https://www.indianlink.com.au/whats-on/nish-kumar-in-nish-dont-kill-my-vibe-2/
LOCATION:Factory Theatre\, 105 Victoria Road\, Marrickville\, NSW\, 2204\, Australia
CATEGORIES:Comedy,Happening in Sydney
ATTACH;FMTTYPE=image/png:https://p9dzm74w.tinifycdn.com/wp-content/uploads/2025/03/Nish-K.png
GEO:-33.9086291;151.1548847
X-APPLE-STRUCTURED-LOCATION;VALUE=URI;X-ADDRESS=Factory Theatre 105 Victoria Road Marrickville NSW 2204 Australia;X-APPLE-RADIUS=500;X-TITLE=105 Victoria Road:geo:151.1548847,-33.9086291
END:VEVENT
END:VCALENDAR