BEGIN:VCALENDAR
VERSION:2.0
PRODID:-//Indian Link - ECPv6.15.20//NONSGML v1.0//EN
CALSCALE:GREGORIAN
METHOD:PUBLISH
X-ORIGINAL-URL:https://www.indianlink.com.au
X-WR-CALDESC:Events for Indian Link
REFRESH-INTERVAL;VALUE=DURATION:PT1H
X-Robots-Tag:noindex
X-PUBLISHED-TTL:PT1H
BEGIN:VTIMEZONE
TZID:Australia/Sydney
BEGIN:STANDARD
TZOFFSETFROM:+1100
TZOFFSETTO:+1000
TZNAME:AEST
DTSTART:20250405T160000
END:STANDARD
BEGIN:DAYLIGHT
TZOFFSETFROM:+1000
TZOFFSETTO:+1100
TZNAME:AEDT
DTSTART:20251004T160000
END:DAYLIGHT
BEGIN:STANDARD
TZOFFSETFROM:+1100
TZOFFSETTO:+1000
TZNAME:AEST
DTSTART:20260404T160000
END:STANDARD
BEGIN:DAYLIGHT
TZOFFSETFROM:+1000
TZOFFSETTO:+1100
TZNAME:AEDT
DTSTART:20261003T160000
END:DAYLIGHT
BEGIN:STANDARD
TZOFFSETFROM:+1100
TZOFFSETTO:+1000
TZNAME:AEST
DTSTART:20270403T160000
END:STANDARD
BEGIN:DAYLIGHT
TZOFFSETFROM:+1000
TZOFFSETTO:+1100
TZNAME:AEDT
DTSTART:20271002T160000
END:DAYLIGHT
END:VTIMEZONE
BEGIN:VEVENT
DTSTART;TZID=Australia/Sydney:20260125T090000
DTEND;TZID=Australia/Sydney:20260125T220000
DTSTAMP:20260423T172148
CREATED:20260108T052509Z
LAST-MODIFIED:20260113T002458Z
UID:10008722-1769331600-1769378400@www.indianlink.com.au
SUMMARY:The Tamil Festival Australia 2026
DESCRIPTION:A festival for everyone\, all-day fun for the whole family. \nCelebrate culture\, community\, and togetherness at a vibrant multicultural carnival inspired by Thai Pongal and Tamil heritage\, and proudly shared with all of Victoria. Everyone is welcome to enjoy a full day of colour\, music\, food\, and fun in a warm\, family-friendly atmosphere. \n\nFrom exciting children’s rides\, adventure zones\, and creative activities to live cultural performances\, traditional games\, and interactive experiences\, there’s something for every age. Food lovers can explore a lively food village offering authentic Tamil flavours and diverse multicultural cuisine\, alongside a bustling marketplace of stalls to discover. \nWhat you’ll love is thrilling kids’ rides\, games\, and family entertainment\, spectacular live performances by local and international artists\, interactive cultural activities and traditional sports\, a vibrant marketplace and food village with flavours from many cultures\, community Pongal cooking and sharing\, and a high-energy live music concert to close the celebrations. \nCome along\, bring your family and friends\, and be part of a joyful day where cultures connect\, communities unite\, and everyone belongs. \nGET TICKETS HERE: https://www.visitmelbourne.com/regions/melbourne/whats-on/multicultural/the-tamil-festival-australia-2026
URL:https://www.indianlink.com.au/whats-on/the-tamil-festival-australia-2026/
LOCATION:Event Central at Carrebean Park\, 1280 Ferntree Gully Rd\, Scoresby VIC 3179\, Australia\, Melbourne\, Victoria\, 3179\, Australia
ATTACH;FMTTYPE=image/jpeg:https://p9dzm74w.tinifycdn.com/wp-content/uploads/2026/01/thumbnail_TF2026FlyerE.jpg
GEO:-37.899359;145.2240049
X-APPLE-STRUCTURED-LOCATION;VALUE=URI;X-ADDRESS=Event Central at Carrebean Park 1280 Ferntree Gully Rd Scoresby VIC 3179 Australia Melbourne Victoria 3179 Australia;X-APPLE-RADIUS=500;X-TITLE=1280 Ferntree Gully Rd\, Scoresby VIC 3179\, Australia:geo:145.2240049,-37.899359
END:VEVENT
END:VCALENDAR