BEGIN:VCALENDAR
VERSION:2.0
PRODID:-//Indian Link - ECPv6.15.20//NONSGML v1.0//EN
CALSCALE:GREGORIAN
METHOD:PUBLISH
X-WR-CALNAME:Indian Link
X-ORIGINAL-URL:https://www.indianlink.com.au
X-WR-CALDESC:Events for Indian Link
REFRESH-INTERVAL;VALUE=DURATION:PT1H
X-Robots-Tag:noindex
X-PUBLISHED-TTL:PT1H
BEGIN:VTIMEZONE
TZID:Australia/Sydney
BEGIN:STANDARD
TZOFFSETFROM:+1100
TZOFFSETTO:+1000
TZNAME:AEST
DTSTART:20240406T160000
END:STANDARD
BEGIN:DAYLIGHT
TZOFFSETFROM:+1000
TZOFFSETTO:+1100
TZNAME:AEDT
DTSTART:20241005T160000
END:DAYLIGHT
BEGIN:STANDARD
TZOFFSETFROM:+1100
TZOFFSETTO:+1000
TZNAME:AEST
DTSTART:20250405T160000
END:STANDARD
BEGIN:DAYLIGHT
TZOFFSETFROM:+1000
TZOFFSETTO:+1100
TZNAME:AEDT
DTSTART:20251004T160000
END:DAYLIGHT
BEGIN:STANDARD
TZOFFSETFROM:+1100
TZOFFSETTO:+1000
TZNAME:AEST
DTSTART:20260404T160000
END:STANDARD
BEGIN:DAYLIGHT
TZOFFSETFROM:+1000
TZOFFSETTO:+1100
TZNAME:AEDT
DTSTART:20261003T160000
END:DAYLIGHT
END:VTIMEZONE
BEGIN:VEVENT
DTSTART;TZID=Australia/Sydney:20251103T130000
DTEND;TZID=Australia/Sydney:20251103T160000
DTSTAMP:20260426T012858
CREATED:20251027T065936Z
LAST-MODIFIED:20251027T065936Z
UID:10008684-1762174800-1762185600@www.indianlink.com.au
SUMMARY:The Female Pope - OzAsia
DESCRIPTION:  \nYou are invited to an audience with The Female Pope. \nWitness Rakini Devi’s powerful transformative performance\, inspired by the 10th-century Pope Joan and the Hindu Goddess Kali. In this interactive\, durational performance\, Devi challenges patriarchal religious iconography and traditional gender roles in society and religion whilst reclaiming power and protesting misogyny. Across three hours of sacred ritual\, come before The Female Pope\, offer your personal petition\, and partake in a meditative encounter. \n\nGET TICKETS HERE: https://ozasia.adelaidefestivalcentre.com.au/whats-on/the-female-pope
URL:https://www.indianlink.com.au/whats-on/the-female-pope-ozasia/2025-11-03/
LOCATION:Elder Wing\, Art Gallery of South Australia\, North Terrace\, Adelaide\, SA\, 5000\, Australia
ATTACH;FMTTYPE=image/jpeg:https://p9dzm74w.tinifycdn.com/wp-content/uploads/2025/10/The-Female-Pope.jpg
GEO:-34.9214168;138.6007925
X-APPLE-STRUCTURED-LOCATION;VALUE=URI;X-ADDRESS=Elder Wing Art Gallery of South Australia North Terrace Adelaide SA 5000 Australia;X-APPLE-RADIUS=500;X-TITLE=North Terrace:geo:138.6007925,-34.9214168
END:VEVENT
BEGIN:VEVENT
DTSTART;TZID=Australia/Sydney:20251101T130000
DTEND;TZID=Australia/Sydney:20251101T160000
DTSTAMP:20260426T012858
CREATED:20251027T065936Z
LAST-MODIFIED:20251027T065936Z
UID:10008683-1762002000-1762012800@www.indianlink.com.au
SUMMARY:The Female Pope - OzAsia
DESCRIPTION:  \nYou are invited to an audience with The Female Pope. \nWitness Rakini Devi’s powerful transformative performance\, inspired by the 10th-century Pope Joan and the Hindu Goddess Kali. In this interactive\, durational performance\, Devi challenges patriarchal religious iconography and traditional gender roles in society and religion whilst reclaiming power and protesting misogyny. Across three hours of sacred ritual\, come before The Female Pope\, offer your personal petition\, and partake in a meditative encounter. \n\nGET TICKETS HERE: https://ozasia.adelaidefestivalcentre.com.au/whats-on/the-female-pope
URL:https://www.indianlink.com.au/whats-on/the-female-pope-ozasia/2025-11-01/
LOCATION:Elder Wing\, Art Gallery of South Australia\, North Terrace\, Adelaide\, SA\, 5000\, Australia
ATTACH;FMTTYPE=image/jpeg:https://p9dzm74w.tinifycdn.com/wp-content/uploads/2025/10/The-Female-Pope.jpg
GEO:-34.9214168;138.6007925
X-APPLE-STRUCTURED-LOCATION;VALUE=URI;X-ADDRESS=Elder Wing Art Gallery of South Australia North Terrace Adelaide SA 5000 Australia;X-APPLE-RADIUS=500;X-TITLE=North Terrace:geo:138.6007925,-34.9214168
END:VEVENT
END:VCALENDAR