BEGIN:VCALENDAR
VERSION:2.0
PRODID:-//Indian Link - ECPv6.15.20//NONSGML v1.0//EN
CALSCALE:GREGORIAN
METHOD:PUBLISH
X-WR-CALNAME:Indian Link
X-ORIGINAL-URL:https://www.indianlink.com.au
X-WR-CALDESC:Events for Indian Link
REFRESH-INTERVAL;VALUE=DURATION:PT1H
X-Robots-Tag:noindex
X-PUBLISHED-TTL:PT1H
BEGIN:VTIMEZONE
TZID:Australia/Sydney
BEGIN:STANDARD
TZOFFSETFROM:+1100
TZOFFSETTO:+1000
TZNAME:AEST
DTSTART:20240406T160000
END:STANDARD
BEGIN:DAYLIGHT
TZOFFSETFROM:+1000
TZOFFSETTO:+1100
TZNAME:AEDT
DTSTART:20241005T160000
END:DAYLIGHT
BEGIN:STANDARD
TZOFFSETFROM:+1100
TZOFFSETTO:+1000
TZNAME:AEST
DTSTART:20250405T160000
END:STANDARD
BEGIN:DAYLIGHT
TZOFFSETFROM:+1000
TZOFFSETTO:+1100
TZNAME:AEDT
DTSTART:20251004T160000
END:DAYLIGHT
BEGIN:STANDARD
TZOFFSETFROM:+1100
TZOFFSETTO:+1000
TZNAME:AEST
DTSTART:20260404T160000
END:STANDARD
BEGIN:DAYLIGHT
TZOFFSETFROM:+1000
TZOFFSETTO:+1100
TZNAME:AEDT
DTSTART:20261003T160000
END:DAYLIGHT
END:VTIMEZONE
BEGIN:VEVENT
DTSTART;TZID=Australia/Sydney:20250118T180000
DTEND;TZID=Australia/Sydney:20250118T213000
DTSTAMP:20260424T071450
CREATED:20240827T070356Z
LAST-MODIFIED:20250107T064539Z
UID:10002113-1737223200-1737235800@www.indianlink.com.au
SUMMARY:As We Speak Live - Sydney
DESCRIPTION:  \n\nAs We Speak Live in Sydney at Darling Harbour Theatre International Convention Centre Sydney (ICC Sydney)- Father’s Day Offer – 10% off from 9AM 27th August till 8th September 2024 11.59PM. Tickets on: https://lnkd.in/dmGgwAdu\n\n\n\nBela Fleck\, Zakir Hussain\, Edgar Meyer\, Feat. Rakesh Chaurasia. The artists have collectively won 31 Grammys!\n\nUniting Indian classical\, Western classical\, and Bluegrass\, the quartet glides easily between the cerebral complexity of Indian rhythm and the gut-level groove of a funky bass line\, sounding equally at home with the rigors of raga. “When we are performing on stage\, in composing mode or creating mode\, we are basically having a conversation. So\, the music emerges as we speak” – Zakir Hussain\n\n\nGET TICKETS HERE: As We Speak Feat. Rakesh Chaurasia tickets | Tours and Events | Ticketek Australia
URL:https://www.indianlink.com.au/whats-on/as-we-speak-live-sydney/
LOCATION:Darling Harbour Theatre\, 14 Darling Drive\, Sydney\, NSW\, 2000\, Australia
ATTACH;FMTTYPE=image/png:https://p9dzm74w.tinifycdn.com/wp-content/uploads/2024/08/Feature-Image-for-NOV-and-Dec-24-6.png
GEO:-33.874129;151.1987267
X-APPLE-STRUCTURED-LOCATION;VALUE=URI;X-ADDRESS=Darling Harbour Theatre 14 Darling Drive Sydney NSW 2000 Australia;X-APPLE-RADIUS=500;X-TITLE=14 Darling Drive:geo:151.1987267,-33.874129
END:VEVENT
END:VCALENDAR