BEGIN:VCALENDAR
VERSION:2.0
PRODID:-//Indian Link - ECPv6.15.20//NONSGML v1.0//EN
CALSCALE:GREGORIAN
METHOD:PUBLISH
X-ORIGINAL-URL:https://www.indianlink.com.au
X-WR-CALDESC:Events for Indian Link
REFRESH-INTERVAL;VALUE=DURATION:PT1H
X-Robots-Tag:noindex
X-PUBLISHED-TTL:PT1H
BEGIN:VTIMEZONE
TZID:Australia/Sydney
BEGIN:STANDARD
TZOFFSETFROM:+1100
TZOFFSETTO:+1000
TZNAME:AEST
DTSTART:20240406T160000
END:STANDARD
BEGIN:DAYLIGHT
TZOFFSETFROM:+1000
TZOFFSETTO:+1100
TZNAME:AEDT
DTSTART:20241005T160000
END:DAYLIGHT
BEGIN:STANDARD
TZOFFSETFROM:+1100
TZOFFSETTO:+1000
TZNAME:AEST
DTSTART:20250405T160000
END:STANDARD
BEGIN:DAYLIGHT
TZOFFSETFROM:+1000
TZOFFSETTO:+1100
TZNAME:AEDT
DTSTART:20251004T160000
END:DAYLIGHT
BEGIN:STANDARD
TZOFFSETFROM:+1100
TZOFFSETTO:+1000
TZNAME:AEST
DTSTART:20260404T160000
END:STANDARD
BEGIN:DAYLIGHT
TZOFFSETFROM:+1000
TZOFFSETTO:+1100
TZNAME:AEDT
DTSTART:20261003T160000
END:DAYLIGHT
END:VTIMEZONE
BEGIN:VEVENT
DTSTART;TZID=Australia/Sydney:20250830T193000
DTEND;TZID=Australia/Sydney:20250830T202000
DTSTAMP:20260423T141221
CREATED:20250711T023404Z
LAST-MODIFIED:20250711T023404Z
UID:10008375-1756582200-1756585200@www.indianlink.com.au
SUMMARY:Copy of the Copy - Priya Srinivasan
DESCRIPTION:  \n— Sit with the past\, dance with discomfort\, reimagine new futures together \nWhat does it mean to be an artist fractured by culture\, geography\, and memory? What does it mean to be a copy of the copy such that the origins become obscured? In these divided times\, how can we use humour and healing to move forward from these histories of entanglements to find the threads of truth telling that connect us? \nBlending dance\, live and recorded sound\, digital interactive projection\, and participatory cooking\, Copy of the Copy responds to the invisibility of Indian bodies in Western artistic canons and uncovers lost connections between pioneering women dancers whose stories have long been silenced. Held by Srinivasan’s exquisite storytelling and the ensemble of stunning live music\, Copy of the Copy brings together Indian\, Sri Lankan\, and Anglo-European artists in a shared ritual of remembrance\, resistance\, and reimagining. \nCelebrate the power of politics\, poetics and cultural exchange and step into an immersive journey where movement\, music\, storytelling\, and recipes converge. \nCreator\, Writer\, Choreographer\, Director & Performer: Dr. Priya Srinivasan\nDramaturge & Choreographic Consultant: Danielle Micich  (Force Majeure)\nComposer\, Musical Director & Performer: Hari Sivanesan (Vocals & Veena)\nPerformers: Pirashanna Thevarajah (Percussion & vocals) & Ranjitha Suresh (Vocals)\nLighting & Stage Design: Marti Shlansky\nSound Design: Luke Smiles\nVideo Design\, Editor & Projection Mapping: Sean Healy\nCostume Design: Harry Gill\nProducers: Stella Webster & Jason Cross (Insite Arts) \nGET TICKETS HERE: Copy of the Copy by Priya Srinivasan – Dancehouse
URL:https://www.indianlink.com.au/whats-on/copy-of-the-copy-priya-srinivasan/2025-08-30/
LOCATION:Dancehouse – Sylvia Staehli Theatre\, 150 Princes St\, Carlton North\, VIC\, 3054\, Australia
ATTACH;FMTTYPE=image/png:https://p9dzm74w.tinifycdn.com/wp-content/uploads/2025/07/Priya-Srinivasan.png
GEO:-37.7922538;144.9704763
X-APPLE-STRUCTURED-LOCATION;VALUE=URI;X-ADDRESS=Dancehouse – Sylvia Staehli Theatre 150 Princes St Carlton North VIC 3054 Australia;X-APPLE-RADIUS=500;X-TITLE=150 Princes St:geo:144.9704763,-37.7922538
END:VEVENT
BEGIN:VEVENT
DTSTART;TZID=Australia/Sydney:20250829T193000
DTEND;TZID=Australia/Sydney:20250829T202000
DTSTAMP:20260423T141221
CREATED:20250711T023404Z
LAST-MODIFIED:20250711T023404Z
UID:10008374-1756495800-1756498800@www.indianlink.com.au
SUMMARY:Copy of the Copy - Priya Srinivasan
DESCRIPTION:  \n— Sit with the past\, dance with discomfort\, reimagine new futures together \nWhat does it mean to be an artist fractured by culture\, geography\, and memory? What does it mean to be a copy of the copy such that the origins become obscured? In these divided times\, how can we use humour and healing to move forward from these histories of entanglements to find the threads of truth telling that connect us? \nBlending dance\, live and recorded sound\, digital interactive projection\, and participatory cooking\, Copy of the Copy responds to the invisibility of Indian bodies in Western artistic canons and uncovers lost connections between pioneering women dancers whose stories have long been silenced. Held by Srinivasan’s exquisite storytelling and the ensemble of stunning live music\, Copy of the Copy brings together Indian\, Sri Lankan\, and Anglo-European artists in a shared ritual of remembrance\, resistance\, and reimagining. \nCelebrate the power of politics\, poetics and cultural exchange and step into an immersive journey where movement\, music\, storytelling\, and recipes converge. \nCreator\, Writer\, Choreographer\, Director & Performer: Dr. Priya Srinivasan\nDramaturge & Choreographic Consultant: Danielle Micich  (Force Majeure)\nComposer\, Musical Director & Performer: Hari Sivanesan (Vocals & Veena)\nPerformers: Pirashanna Thevarajah (Percussion & vocals) & Ranjitha Suresh (Vocals)\nLighting & Stage Design: Marti Shlansky\nSound Design: Luke Smiles\nVideo Design\, Editor & Projection Mapping: Sean Healy\nCostume Design: Harry Gill\nProducers: Stella Webster & Jason Cross (Insite Arts) \nGET TICKETS HERE: Copy of the Copy by Priya Srinivasan – Dancehouse
URL:https://www.indianlink.com.au/whats-on/copy-of-the-copy-priya-srinivasan/2025-08-29/
LOCATION:Dancehouse – Sylvia Staehli Theatre\, 150 Princes St\, Carlton North\, VIC\, 3054\, Australia
ATTACH;FMTTYPE=image/png:https://p9dzm74w.tinifycdn.com/wp-content/uploads/2025/07/Priya-Srinivasan.png
GEO:-37.7922538;144.9704763
X-APPLE-STRUCTURED-LOCATION;VALUE=URI;X-ADDRESS=Dancehouse – Sylvia Staehli Theatre 150 Princes St Carlton North VIC 3054 Australia;X-APPLE-RADIUS=500;X-TITLE=150 Princes St:geo:144.9704763,-37.7922538
END:VEVENT
BEGIN:VEVENT
DTSTART;TZID=Australia/Sydney:20250828T193000
DTEND;TZID=Australia/Sydney:20250828T202000
DTSTAMP:20260423T141221
CREATED:20250711T023404Z
LAST-MODIFIED:20250711T023404Z
UID:10008373-1756409400-1756412400@www.indianlink.com.au
SUMMARY:Copy of the Copy - Priya Srinivasan
DESCRIPTION:  \n— Sit with the past\, dance with discomfort\, reimagine new futures together \nWhat does it mean to be an artist fractured by culture\, geography\, and memory? What does it mean to be a copy of the copy such that the origins become obscured? In these divided times\, how can we use humour and healing to move forward from these histories of entanglements to find the threads of truth telling that connect us? \nBlending dance\, live and recorded sound\, digital interactive projection\, and participatory cooking\, Copy of the Copy responds to the invisibility of Indian bodies in Western artistic canons and uncovers lost connections between pioneering women dancers whose stories have long been silenced. Held by Srinivasan’s exquisite storytelling and the ensemble of stunning live music\, Copy of the Copy brings together Indian\, Sri Lankan\, and Anglo-European artists in a shared ritual of remembrance\, resistance\, and reimagining. \nCelebrate the power of politics\, poetics and cultural exchange and step into an immersive journey where movement\, music\, storytelling\, and recipes converge. \nCreator\, Writer\, Choreographer\, Director & Performer: Dr. Priya Srinivasan\nDramaturge & Choreographic Consultant: Danielle Micich  (Force Majeure)\nComposer\, Musical Director & Performer: Hari Sivanesan (Vocals & Veena)\nPerformers: Pirashanna Thevarajah (Percussion & vocals) & Ranjitha Suresh (Vocals)\nLighting & Stage Design: Marti Shlansky\nSound Design: Luke Smiles\nVideo Design\, Editor & Projection Mapping: Sean Healy\nCostume Design: Harry Gill\nProducers: Stella Webster & Jason Cross (Insite Arts) \nGET TICKETS HERE: Copy of the Copy by Priya Srinivasan – Dancehouse
URL:https://www.indianlink.com.au/whats-on/copy-of-the-copy-priya-srinivasan/2025-08-28/
LOCATION:Dancehouse – Sylvia Staehli Theatre\, 150 Princes St\, Carlton North\, VIC\, 3054\, Australia
ATTACH;FMTTYPE=image/png:https://p9dzm74w.tinifycdn.com/wp-content/uploads/2025/07/Priya-Srinivasan.png
GEO:-37.7922538;144.9704763
X-APPLE-STRUCTURED-LOCATION;VALUE=URI;X-ADDRESS=Dancehouse – Sylvia Staehli Theatre 150 Princes St Carlton North VIC 3054 Australia;X-APPLE-RADIUS=500;X-TITLE=150 Princes St:geo:144.9704763,-37.7922538
END:VEVENT
BEGIN:VEVENT
DTSTART;TZID=Australia/Sydney:20250827T193000
DTEND;TZID=Australia/Sydney:20250827T202000
DTSTAMP:20260423T141221
CREATED:20250711T023404Z
LAST-MODIFIED:20250711T023404Z
UID:10008372-1756323000-1756326000@www.indianlink.com.au
SUMMARY:Copy of the Copy - Priya Srinivasan
DESCRIPTION:  \n— Sit with the past\, dance with discomfort\, reimagine new futures together \nWhat does it mean to be an artist fractured by culture\, geography\, and memory? What does it mean to be a copy of the copy such that the origins become obscured? In these divided times\, how can we use humour and healing to move forward from these histories of entanglements to find the threads of truth telling that connect us? \nBlending dance\, live and recorded sound\, digital interactive projection\, and participatory cooking\, Copy of the Copy responds to the invisibility of Indian bodies in Western artistic canons and uncovers lost connections between pioneering women dancers whose stories have long been silenced. Held by Srinivasan’s exquisite storytelling and the ensemble of stunning live music\, Copy of the Copy brings together Indian\, Sri Lankan\, and Anglo-European artists in a shared ritual of remembrance\, resistance\, and reimagining. \nCelebrate the power of politics\, poetics and cultural exchange and step into an immersive journey where movement\, music\, storytelling\, and recipes converge. \nCreator\, Writer\, Choreographer\, Director & Performer: Dr. Priya Srinivasan\nDramaturge & Choreographic Consultant: Danielle Micich  (Force Majeure)\nComposer\, Musical Director & Performer: Hari Sivanesan (Vocals & Veena)\nPerformers: Pirashanna Thevarajah (Percussion & vocals) & Ranjitha Suresh (Vocals)\nLighting & Stage Design: Marti Shlansky\nSound Design: Luke Smiles\nVideo Design\, Editor & Projection Mapping: Sean Healy\nCostume Design: Harry Gill\nProducers: Stella Webster & Jason Cross (Insite Arts) \nGET TICKETS HERE: Copy of the Copy by Priya Srinivasan – Dancehouse
URL:https://www.indianlink.com.au/whats-on/copy-of-the-copy-priya-srinivasan/2025-08-27/
LOCATION:Dancehouse – Sylvia Staehli Theatre\, 150 Princes St\, Carlton North\, VIC\, 3054\, Australia
ATTACH;FMTTYPE=image/png:https://p9dzm74w.tinifycdn.com/wp-content/uploads/2025/07/Priya-Srinivasan.png
GEO:-37.7922538;144.9704763
X-APPLE-STRUCTURED-LOCATION;VALUE=URI;X-ADDRESS=Dancehouse – Sylvia Staehli Theatre 150 Princes St Carlton North VIC 3054 Australia;X-APPLE-RADIUS=500;X-TITLE=150 Princes St:geo:144.9704763,-37.7922538
END:VEVENT
BEGIN:VEVENT
DTSTART;TZID=Australia/Sydney:20250826T193000
DTEND;TZID=Australia/Sydney:20250826T202000
DTSTAMP:20260423T141221
CREATED:20250711T023404Z
LAST-MODIFIED:20250711T023404Z
UID:10008371-1756236600-1756239600@www.indianlink.com.au
SUMMARY:Copy of the Copy - Priya Srinivasan
DESCRIPTION:  \n— Sit with the past\, dance with discomfort\, reimagine new futures together \nWhat does it mean to be an artist fractured by culture\, geography\, and memory? What does it mean to be a copy of the copy such that the origins become obscured? In these divided times\, how can we use humour and healing to move forward from these histories of entanglements to find the threads of truth telling that connect us? \nBlending dance\, live and recorded sound\, digital interactive projection\, and participatory cooking\, Copy of the Copy responds to the invisibility of Indian bodies in Western artistic canons and uncovers lost connections between pioneering women dancers whose stories have long been silenced. Held by Srinivasan’s exquisite storytelling and the ensemble of stunning live music\, Copy of the Copy brings together Indian\, Sri Lankan\, and Anglo-European artists in a shared ritual of remembrance\, resistance\, and reimagining. \nCelebrate the power of politics\, poetics and cultural exchange and step into an immersive journey where movement\, music\, storytelling\, and recipes converge. \nCreator\, Writer\, Choreographer\, Director & Performer: Dr. Priya Srinivasan\nDramaturge & Choreographic Consultant: Danielle Micich  (Force Majeure)\nComposer\, Musical Director & Performer: Hari Sivanesan (Vocals & Veena)\nPerformers: Pirashanna Thevarajah (Percussion & vocals) & Ranjitha Suresh (Vocals)\nLighting & Stage Design: Marti Shlansky\nSound Design: Luke Smiles\nVideo Design\, Editor & Projection Mapping: Sean Healy\nCostume Design: Harry Gill\nProducers: Stella Webster & Jason Cross (Insite Arts) \nGET TICKETS HERE: Copy of the Copy by Priya Srinivasan – Dancehouse
URL:https://www.indianlink.com.au/whats-on/copy-of-the-copy-priya-srinivasan/2025-08-26/
LOCATION:Dancehouse – Sylvia Staehli Theatre\, 150 Princes St\, Carlton North\, VIC\, 3054\, Australia
ATTACH;FMTTYPE=image/png:https://p9dzm74w.tinifycdn.com/wp-content/uploads/2025/07/Priya-Srinivasan.png
GEO:-37.7922538;144.9704763
X-APPLE-STRUCTURED-LOCATION;VALUE=URI;X-ADDRESS=Dancehouse – Sylvia Staehli Theatre 150 Princes St Carlton North VIC 3054 Australia;X-APPLE-RADIUS=500;X-TITLE=150 Princes St:geo:144.9704763,-37.7922538
END:VEVENT
END:VCALENDAR