BEGIN:VCALENDAR
VERSION:2.0
PRODID:-//Indian Link - ECPv6.15.20//NONSGML v1.0//EN
CALSCALE:GREGORIAN
METHOD:PUBLISH
X-ORIGINAL-URL:https://www.indianlink.com.au
X-WR-CALDESC:Events for Indian Link
REFRESH-INTERVAL;VALUE=DURATION:PT1H
X-Robots-Tag:noindex
X-PUBLISHED-TTL:PT1H
BEGIN:VTIMEZONE
TZID:Australia/Sydney
BEGIN:STANDARD
TZOFFSETFROM:+1100
TZOFFSETTO:+1000
TZNAME:AEST
DTSTART:20240406T160000
END:STANDARD
BEGIN:DAYLIGHT
TZOFFSETFROM:+1000
TZOFFSETTO:+1100
TZNAME:AEDT
DTSTART:20241005T160000
END:DAYLIGHT
BEGIN:STANDARD
TZOFFSETFROM:+1100
TZOFFSETTO:+1000
TZNAME:AEST
DTSTART:20250405T160000
END:STANDARD
BEGIN:DAYLIGHT
TZOFFSETFROM:+1000
TZOFFSETTO:+1100
TZNAME:AEDT
DTSTART:20251004T160000
END:DAYLIGHT
BEGIN:STANDARD
TZOFFSETFROM:+1100
TZOFFSETTO:+1000
TZNAME:AEST
DTSTART:20260404T160000
END:STANDARD
BEGIN:DAYLIGHT
TZOFFSETFROM:+1000
TZOFFSETTO:+1100
TZNAME:AEDT
DTSTART:20261003T160000
END:DAYLIGHT
END:VTIMEZONE
BEGIN:VEVENT
DTSTART;TZID=Australia/Sydney:20250413T130000
DTEND;TZID=Australia/Sydney:20250413T140000
DTSTAMP:20260423T025729
CREATED:20250331T052348Z
LAST-MODIFIED:20250331T052348Z
UID:10003099-1744549200-1744552800@www.indianlink.com.au
SUMMARY:Kulbir Jhinjer’s Yaariyan 2025 - Live in Melbourne (Cranbourne)
DESCRIPTION:  \nGet ready for an electrifying night with Kulbir Jhinjer’s Yaariyan 2025 Live in Cranbourne\, Melbourne! Experience the power of Punjabi beats as Kulbir Jhinjer Live Cranbourne takes center stage. Don’t miss out—grab your Kulbir Jhinjer Cranbourne tickets now for an unforgettable night of music and energy. Looking for the best Cranbourne Punjabi Events 2025? This is the one you can’t afford to miss! Be part of the excitement at Yaariyan 2025 Cranbourne and book your tickets today. 🎤🔥 Secure your spot! \nGET TICKETS HERE: Kulbir Jhinjer Yaariyan 2025 Live in Cranbourne | APR 13\, 1 PM
URL:https://www.indianlink.com.au/whats-on/kulbir-jhinjers-yaariyan-2025-live-in-melbourne-cranbourne/
LOCATION:Cranbourne Racecourses\, 50 Grant Street\, Melbourne\, VIC\, 3977\, Australia
ATTACH;FMTTYPE=image/png:https://p9dzm74w.tinifycdn.com/wp-content/uploads/2025/03/Yaariyan-1.png
GEO:-38.1176962;145.2800305
X-APPLE-STRUCTURED-LOCATION;VALUE=URI;X-ADDRESS=Cranbourne Racecourses 50 Grant Street Melbourne VIC 3977 Australia;X-APPLE-RADIUS=500;X-TITLE=50 Grant Street:geo:145.2800305,-38.1176962
END:VEVENT
END:VCALENDAR