BEGIN:VCALENDAR
VERSION:2.0
PRODID:-//Indian Link - ECPv6.15.20//NONSGML v1.0//EN
CALSCALE:GREGORIAN
METHOD:PUBLISH
X-ORIGINAL-URL:https://www.indianlink.com.au
X-WR-CALDESC:Events for Indian Link
REFRESH-INTERVAL;VALUE=DURATION:PT1H
X-Robots-Tag:noindex
X-PUBLISHED-TTL:PT1H
BEGIN:VTIMEZONE
TZID:Australia/Sydney
BEGIN:STANDARD
TZOFFSETFROM:+1100
TZOFFSETTO:+1000
TZNAME:AEST
DTSTART:20250405T160000
END:STANDARD
BEGIN:DAYLIGHT
TZOFFSETFROM:+1000
TZOFFSETTO:+1100
TZNAME:AEDT
DTSTART:20251004T160000
END:DAYLIGHT
BEGIN:STANDARD
TZOFFSETFROM:+1100
TZOFFSETTO:+1000
TZNAME:AEST
DTSTART:20260404T160000
END:STANDARD
BEGIN:DAYLIGHT
TZOFFSETFROM:+1000
TZOFFSETTO:+1100
TZNAME:AEDT
DTSTART:20261003T160000
END:DAYLIGHT
BEGIN:STANDARD
TZOFFSETFROM:+1100
TZOFFSETTO:+1000
TZNAME:AEST
DTSTART:20270403T160000
END:STANDARD
BEGIN:DAYLIGHT
TZOFFSETFROM:+1000
TZOFFSETTO:+1100
TZNAME:AEDT
DTSTART:20271002T160000
END:DAYLIGHT
END:VTIMEZONE
BEGIN:VEVENT
DTSTART;TZID=Australia/Sydney:20260517T190000
DTEND;TZID=Australia/Sydney:20260517T210000
DTSTAMP:20260423T035018
CREATED:20260312T015930Z
LAST-MODIFIED:20260312T015930Z
UID:10008856-1779044400-1779051600@www.indianlink.com.au
SUMMARY:The Yellow Diary Concert
DESCRIPTION:  \nIndia’s leading pop-rock band\, The Yellow Diary has a fresh sonic identity that blends thought-provoking poetry with a unique\, modern soundscape. Charged with powerful songwriting\, their music is an ode to the experiences we go through in this mysterious\, unpredictable roller coaster called life. Their music is a reflection of personal experiences and personal journeys\, something most of us pen in our journals/diaries. \nGET TICKETS HERE: Oztix
URL:https://www.indianlink.com.au/whats-on/the-yellow-diary-concert/
LOCATION:Corner Hotel\, Swan Street 57\, Richmond\, VIC\, 3121\, Australia
ATTACH;FMTTYPE=image/png:https://p9dzm74w.tinifycdn.com/wp-content/uploads/2026/03/January-2026-Feature-Image-600-x-400-px-600-x-400-px-10.png
GEO:-37.8249163;144.9926881
X-APPLE-STRUCTURED-LOCATION;VALUE=URI;X-ADDRESS=Corner Hotel Swan Street 57 Richmond VIC 3121 Australia;X-APPLE-RADIUS=500;X-TITLE=Swan Street 57:geo:144.9926881,-37.8249163
END:VEVENT
END:VCALENDAR