BEGIN:VCALENDAR
VERSION:2.0
PRODID:-//Indian Link - ECPv6.15.20//NONSGML v1.0//EN
CALSCALE:GREGORIAN
METHOD:PUBLISH
X-WR-CALNAME:Indian Link
X-ORIGINAL-URL:https://www.indianlink.com.au
X-WR-CALDESC:Events for Indian Link
REFRESH-INTERVAL;VALUE=DURATION:PT1H
X-Robots-Tag:noindex
X-PUBLISHED-TTL:PT1H
BEGIN:VTIMEZONE
TZID:Australia/Sydney
BEGIN:STANDARD
TZOFFSETFROM:+1100
TZOFFSETTO:+1000
TZNAME:AEST
DTSTART:20240406T160000
END:STANDARD
BEGIN:DAYLIGHT
TZOFFSETFROM:+1000
TZOFFSETTO:+1100
TZNAME:AEDT
DTSTART:20241005T160000
END:DAYLIGHT
BEGIN:STANDARD
TZOFFSETFROM:+1100
TZOFFSETTO:+1000
TZNAME:AEST
DTSTART:20250405T160000
END:STANDARD
BEGIN:DAYLIGHT
TZOFFSETFROM:+1000
TZOFFSETTO:+1100
TZNAME:AEDT
DTSTART:20251004T160000
END:DAYLIGHT
BEGIN:STANDARD
TZOFFSETFROM:+1100
TZOFFSETTO:+1000
TZNAME:AEST
DTSTART:20260404T160000
END:STANDARD
BEGIN:DAYLIGHT
TZOFFSETFROM:+1000
TZOFFSETTO:+1100
TZNAME:AEDT
DTSTART:20261003T160000
END:DAYLIGHT
END:VTIMEZONE
BEGIN:VEVENT
DTSTART;TZID=Australia/Sydney:20250831T173000
DTEND;TZID=Australia/Sydney:20250831T173000
DTSTAMP:20260425T232814
CREATED:20250821T050033Z
LAST-MODIFIED:20250821T050033Z
UID:10008489-1756661400-1756661400@www.indianlink.com.au
SUMMARY:Nadaan Parindey - A Musical Journey 2025
DESCRIPTION:A Bollywood-inspired musical that tells the heartfelt story of migrants and international students chasing dreams in Australia. From emotional goodbyes and early struggles to building a new home and finding joy\, this show takes you on a journey through five powerful segments. With soul-touching performances by Vatsal Thakar\, Steve Shankar\, Binny Jaradi\, Hari\, Mayank Sheladiya\, Pranav Paudel\, and Ahmad\, and electrifying dance by Tapori Squad\, it’s more than a concert — it’s your story on stage. Hosted by the dynamic Zain Chams and a surprise EmCee debut\, expect laughter\, tears\, and unforgettable moments. Celebrate your journey with us. \nThe musical night brings together incredible voices and timeless melodies that promise to leave you mesmerized. It’s more than just a concert—it’s a journey into the soul of music\, where every tune carries a memory\, and every beat stirs emotion. Music lovers from across Queensland are expected to attend this melodious celebration. \nThis family-friendly event will offer a perfect blend of classic hits and modern melodies. Whether you’re a fan of Bollywood classics or soulful acoustic performances\, this musical journey will cater to every ear and heart. \nKey Highlights: \n\nLive music performances by talented vocalists\nMelodies from classic and contemporary eras\nSpacious venue with comfortable seating\nPerfect ambiance for families and music lovers\n\nBook your tickets here: https://www.premiertickets.co/event/nadaan-parindey-a-musical-journey-2025/
URL:https://www.indianlink.com.au/whats-on/nadaan-parindey-a-musical-journey-2025/
LOCATION:Coorparoo Secondary College\, Queensland\, Australia
ATTACH;FMTTYPE=image/png:https://p9dzm74w.tinifycdn.com/wp-content/uploads/2025/08/Nadaan-Parindey-1.png
GEO:-27.4872598;153.0544297
END:VEVENT
END:VCALENDAR