BEGIN:VCALENDAR
VERSION:2.0
PRODID:-//Indian Link - ECPv6.15.20//NONSGML v1.0//EN
CALSCALE:GREGORIAN
METHOD:PUBLISH
X-WR-CALNAME:Indian Link
X-ORIGINAL-URL:https://www.indianlink.com.au
X-WR-CALDESC:Events for Indian Link
REFRESH-INTERVAL;VALUE=DURATION:PT1H
X-Robots-Tag:noindex
X-PUBLISHED-TTL:PT1H
BEGIN:VTIMEZONE
TZID:Australia/Sydney
BEGIN:STANDARD
TZOFFSETFROM:+1100
TZOFFSETTO:+1000
TZNAME:AEST
DTSTART:20240406T160000
END:STANDARD
BEGIN:DAYLIGHT
TZOFFSETFROM:+1000
TZOFFSETTO:+1100
TZNAME:AEDT
DTSTART:20241005T160000
END:DAYLIGHT
BEGIN:STANDARD
TZOFFSETFROM:+1100
TZOFFSETTO:+1000
TZNAME:AEST
DTSTART:20250405T160000
END:STANDARD
BEGIN:DAYLIGHT
TZOFFSETFROM:+1000
TZOFFSETTO:+1100
TZNAME:AEDT
DTSTART:20251004T160000
END:DAYLIGHT
BEGIN:STANDARD
TZOFFSETFROM:+1100
TZOFFSETTO:+1000
TZNAME:AEST
DTSTART:20260404T160000
END:STANDARD
BEGIN:DAYLIGHT
TZOFFSETFROM:+1000
TZOFFSETTO:+1100
TZNAME:AEDT
DTSTART:20261003T160000
END:DAYLIGHT
END:VTIMEZONE
BEGIN:VEVENT
DTSTART;TZID=Australia/Sydney:20250427T193000
DTEND;TZID=Australia/Sydney:20250427T210000
DTSTAMP:20260423T042137
CREATED:20250210T021246Z
LAST-MODIFIED:20250401T235948Z
UID:10002523-1745782200-1745787600@www.indianlink.com.au
SUMMARY:An Evening with Jameela Jamil - Brisbane
DESCRIPTION:  \nJameela Jamil is bringing her unique perspective and fearless activism to Australia for a one-of-a-kind tour. Fans can expect an evening filled with candid\, bold\, and rebellious conversations as Jameela dives into the topics that shape modern life. Known for her humor\, passion\, and honesty\, Jameela will discuss everything from fame and success to love\, kindness\, and the power of being authentic. \nAs a passionate advocate for mental health and social justice\, Jameela will also share insights from her work with I Weigh\, the movement she founded in 2018\, which covers issues such as mental health\, climate justice\, and representation for marginalized communities. Reintroduced as Move For Your Mind\, the initiative aims to challenge toxic fitness culture and promote well-being with a focus on equity. This tour offers a rare chance to engage in spirited discussions with one of the most compelling voices of our time. \nDon’t miss out on the opportunity to hear Jameela’s bold thoughts on how we can change the world for the better. \nGET TICKETS HERE: Jameela Jamil – QTIX – Creative Ticketing
URL:https://www.indianlink.com.au/whats-on/an-evening-with-jameela-jamil/
LOCATION:Concert Hall\, QPAC\, Corner of Melbourne St and Grey St\, South Brisbane\, Brisbane\, QLD\, 4101\, Australia
CATEGORIES:Happening in Brisbane
ATTACH;FMTTYPE=image/png:https://p9dzm74w.tinifycdn.com/wp-content/uploads/2025/02/Jameela-Jamil.png
GEO:-27.4739518;153.0183984
X-APPLE-STRUCTURED-LOCATION;VALUE=URI;X-ADDRESS=Concert Hall QPAC Corner of Melbourne St and Grey St South Brisbane Brisbane QLD 4101 Australia;X-APPLE-RADIUS=500;X-TITLE=Corner of Melbourne St and Grey St\, South Brisbane:geo:153.0183984,-27.4739518
END:VEVENT
END:VCALENDAR