BEGIN:VCALENDAR
VERSION:2.0
PRODID:-//Indian Link - ECPv6.15.20//NONSGML v1.0//EN
CALSCALE:GREGORIAN
METHOD:PUBLISH
X-ORIGINAL-URL:https://www.indianlink.com.au
X-WR-CALDESC:Events for Indian Link
REFRESH-INTERVAL;VALUE=DURATION:PT1H
X-Robots-Tag:noindex
X-PUBLISHED-TTL:PT1H
BEGIN:VTIMEZONE
TZID:Australia/Sydney
BEGIN:STANDARD
TZOFFSETFROM:+1100
TZOFFSETTO:+1000
TZNAME:AEST
DTSTART:20240406T160000
END:STANDARD
BEGIN:DAYLIGHT
TZOFFSETFROM:+1000
TZOFFSETTO:+1100
TZNAME:AEDT
DTSTART:20241005T160000
END:DAYLIGHT
BEGIN:STANDARD
TZOFFSETFROM:+1100
TZOFFSETTO:+1000
TZNAME:AEST
DTSTART:20250405T160000
END:STANDARD
BEGIN:DAYLIGHT
TZOFFSETFROM:+1000
TZOFFSETTO:+1100
TZNAME:AEDT
DTSTART:20251004T160000
END:DAYLIGHT
BEGIN:STANDARD
TZOFFSETFROM:+1100
TZOFFSETTO:+1000
TZNAME:AEST
DTSTART:20260404T160000
END:STANDARD
BEGIN:DAYLIGHT
TZOFFSETFROM:+1000
TZOFFSETTO:+1100
TZNAME:AEDT
DTSTART:20261003T160000
END:DAYLIGHT
END:VTIMEZONE
BEGIN:VEVENT
DTSTART;TZID=Australia/Sydney:20250315T120000
DTEND;TZID=Australia/Sydney:20250315T180000
DTSTAMP:20260423T081913
CREATED:20250315T044356Z
LAST-MODIFIED:20250315T044356Z
UID:10003041-1742040000-1742061600@www.indianlink.com.au
SUMMARY:NAWA Inc Holi (colour festival) - Fagu Purnima
DESCRIPTION:  \n✨ TFP TAX Accountants Presents Nepali Association of Western Australia NAWA Inc NAWA Inc Holi Festival 2025! 🎉🌈 \nJoin us for an unforgettable celebration of colors\, culture\, and community! 🎶 \n📅 Date: 15th March 2025\n⏰ Time: 12:00 PM – 6:00 PM\n📍 Venue: Cannington Civic Park \n🎨 FREE EVENT – Attractions include:\n• Free Colour Play 🌈\n• Live Music 🎸🎤\n• Delicious Food Stalls 🥟\n• Fun Kids Activities 🛝\n• Exciting Door Prizes 🎁 \nLet’s make this Holi vibrant and filled with joy! Gather your family and friends for an afternoon of fun\, laughter\, and MOMOs! 🥳 \n💡 EOI for Sponsorship is Open!For details\, contact:\n📞 Bhuwan Khadka: 0430 854 158\n📞 Sandeep Adhikari: 0404 304 467\n📞 Rudra Bhandari: 0432 490 492 \nCome and be part of this colorful festivity! Spread the word and let’s celebrate Holi together like never before! 🌼✨ \nGET TICKETS HERE: NAWA Inc Holi (color festival) – Fagu Purnima\, Civic Centre Park\, Perth\, 15 March 2025 | AllEvents
URL:https://www.indianlink.com.au/whats-on/nawa-inc-holi-colour-festival-fagu-purnima/
LOCATION:Civic Centre Park\, Civic Centre Park\, Cannington\, Perth\, WA\, 6107\, Australia
ATTACH;FMTTYPE=image/png:https://p9dzm74w.tinifycdn.com/wp-content/uploads/2025/03/NAWA-Holi.png
GEO:-32.0174637;115.92943
X-APPLE-STRUCTURED-LOCATION;VALUE=URI;X-ADDRESS=Civic Centre Park Civic Centre Park Cannington Perth WA 6107 Australia;X-APPLE-RADIUS=500;X-TITLE=Civic Centre Park\, Cannington:geo:115.92943,-32.0174637
END:VEVENT
END:VCALENDAR