BEGIN:VCALENDAR
VERSION:2.0
PRODID:-//Indian Link - ECPv6.15.20//NONSGML v1.0//EN
CALSCALE:GREGORIAN
METHOD:PUBLISH
X-ORIGINAL-URL:https://www.indianlink.com.au
X-WR-CALDESC:Events for Indian Link
REFRESH-INTERVAL;VALUE=DURATION:PT1H
X-Robots-Tag:noindex
X-PUBLISHED-TTL:PT1H
BEGIN:VTIMEZONE
TZID:Australia/Sydney
BEGIN:STANDARD
TZOFFSETFROM:+1100
TZOFFSETTO:+1000
TZNAME:AEST
DTSTART:20240406T160000
END:STANDARD
BEGIN:DAYLIGHT
TZOFFSETFROM:+1000
TZOFFSETTO:+1100
TZNAME:AEDT
DTSTART:20241005T160000
END:DAYLIGHT
BEGIN:STANDARD
TZOFFSETFROM:+1100
TZOFFSETTO:+1000
TZNAME:AEST
DTSTART:20250405T160000
END:STANDARD
BEGIN:DAYLIGHT
TZOFFSETFROM:+1000
TZOFFSETTO:+1100
TZNAME:AEDT
DTSTART:20251004T160000
END:DAYLIGHT
BEGIN:STANDARD
TZOFFSETFROM:+1100
TZOFFSETTO:+1000
TZNAME:AEST
DTSTART:20260404T160000
END:STANDARD
BEGIN:DAYLIGHT
TZOFFSETFROM:+1000
TZOFFSETTO:+1100
TZNAME:AEDT
DTSTART:20261003T160000
END:DAYLIGHT
END:VTIMEZONE
BEGIN:VEVENT
DTSTART;TZID=Australia/Sydney:20250919T193000
DTEND;TZID=Australia/Sydney:20250919T223000
DTSTAMP:20260423T022849
CREATED:20250918T020748Z
LAST-MODIFIED:20250918T020748Z
UID:10008621-1758310200-1758321000@www.indianlink.com.au
SUMMARY:Halwa By Amit Tandon - Live in Adelaide!
DESCRIPTION:  \nHalwa\, A Brand New Show by Amit Tandon. He brings out his own take on the aging of a marriage.
URL:https://www.indianlink.com.au/whats-on/halwa-by-amit-tandon-live-in-adelaide/
LOCATION:Capri Theatre\, 141 Goodwood Rd\, Goodwood SA\, Adelaide\, SA\, 5034\, Australia
ATTACH;FMTTYPE=image/jpeg:https://p9dzm74w.tinifycdn.com/wp-content/uploads/2025/09/https___cdn.evbuc_.com_images_1058396193_2349699782533_1_original.jpeg
ORGANIZER;CN="Marching Elephants Entertainment":MAILTO:laughtertour@gmail.com
GEO:-34.9528911;138.5901568
X-APPLE-STRUCTURED-LOCATION;VALUE=URI;X-ADDRESS=Capri Theatre 141 Goodwood Rd Goodwood SA Adelaide SA 5034 Australia;X-APPLE-RADIUS=500;X-TITLE=141 Goodwood Rd\, Goodwood SA:geo:138.5901568,-34.9528911
END:VEVENT
BEGIN:VEVENT
DTSTART;TZID=Australia/Sydney:20250328T190000
DTEND;TZID=Australia/Sydney:20250328T210000
DTSTAMP:20260423T022849
CREATED:20250224T113445Z
LAST-MODIFIED:20250224T113445Z
UID:10002622-1743188400-1743195600@www.indianlink.com.au
SUMMARY:Grown Up! Standup Comedy Show by Jaspreet Singh Live in Adelaide 2025
DESCRIPTION:  \nJaspreet Singh takes the stage to talk about his wildest job yet – being a father! From navigating his innate irresponsible nature to the absurdities of modern parenting\, Jaspreet weaves a show about men\, fatherhood\, love and loss. Bring your parents for this hour of hilarious (and vulnerable) encounters of self discovery  \nConditions of Entry \n• Finally\, a show you can get your child along but in the interest of the show we request you to book a corner seat to avoid any disruptions.\n• Need tickets for anyone above 5 years old\n• Seating is fully allocated\n• Event content will be in English.\n• Due to nature of the show\, House lights may be kept on fully or flickering.\n• All sales are final.\n• In an event of international/state border restrictions or venue capacity restriction\, the show will be postponed to a later date wherein existing ticket holders will be credited for same or equivalent seats.\n• Tickets are non-refundable – Tickets once booked cannot be exchanged or refunded.\n•  Booking fee will be charged & will not be refunded in case show gets cancelled or postponed.\n•  In an event of misconduct by patrons\, the event organiser reserves the right of eviction.\n•  Rights of admission are reserved.\n• Content will be almost the same as the previously performed show.\n• We will start the show on time\, and we recommend that you arrive at-least 30 minutes prior at the venue for a seamless entry.\n• These terms and conditions are subject to change from time to time at the discretion of the organizer\n• You are buying the tickets at your own will. You also understand the type of the comedy and content will be performed at the event.\n• Due to venue restrictions\, food and drinks are not allowed inside the auditorium. You may bring a bottle of water.\n• Pricing is may be changed without any prior notice. \nGET TICKETS HERE: Grown Up! Standup Comedy Show by Jaspreet Singh Live in Adelaide 2025 – DryTickets.com.au
URL:https://www.indianlink.com.au/whats-on/grown-up-standup-comedy-show-by-jaspreet-singh-live-in-adelaide-2025/
LOCATION:Capri Theatre\, 141 Goodwood Rd\, Goodwood SA\, Adelaide\, SA\, 5034\, Australia
ATTACH;FMTTYPE=image/png:https://p9dzm74w.tinifycdn.com/wp-content/uploads/2025/02/Grown-up-Adelaide.png
GEO:-34.9528911;138.5901568
X-APPLE-STRUCTURED-LOCATION;VALUE=URI;X-ADDRESS=Capri Theatre 141 Goodwood Rd Goodwood SA Adelaide SA 5034 Australia;X-APPLE-RADIUS=500;X-TITLE=141 Goodwood Rd\, Goodwood SA:geo:138.5901568,-34.9528911
END:VEVENT
END:VCALENDAR