BEGIN:VCALENDAR
VERSION:2.0
PRODID:-//Indian Link - ECPv6.15.20//NONSGML v1.0//EN
CALSCALE:GREGORIAN
METHOD:PUBLISH
X-WR-CALNAME:Indian Link
X-ORIGINAL-URL:https://www.indianlink.com.au
X-WR-CALDESC:Events for Indian Link
REFRESH-INTERVAL;VALUE=DURATION:PT1H
X-Robots-Tag:noindex
X-PUBLISHED-TTL:PT1H
BEGIN:VTIMEZONE
TZID:Australia/Sydney
BEGIN:STANDARD
TZOFFSETFROM:+1100
TZOFFSETTO:+1000
TZNAME:AEST
DTSTART:20240406T160000
END:STANDARD
BEGIN:DAYLIGHT
TZOFFSETFROM:+1000
TZOFFSETTO:+1100
TZNAME:AEDT
DTSTART:20241005T160000
END:DAYLIGHT
BEGIN:STANDARD
TZOFFSETFROM:+1100
TZOFFSETTO:+1000
TZNAME:AEST
DTSTART:20250405T160000
END:STANDARD
BEGIN:DAYLIGHT
TZOFFSETFROM:+1000
TZOFFSETTO:+1100
TZNAME:AEDT
DTSTART:20251004T160000
END:DAYLIGHT
BEGIN:STANDARD
TZOFFSETFROM:+1100
TZOFFSETTO:+1000
TZNAME:AEST
DTSTART:20260404T160000
END:STANDARD
BEGIN:DAYLIGHT
TZOFFSETFROM:+1000
TZOFFSETTO:+1100
TZNAME:AEDT
DTSTART:20261003T160000
END:DAYLIGHT
END:VTIMEZONE
BEGIN:VEVENT
DTSTART;TZID=Australia/Sydney:20251011T140000
DTEND;TZID=Australia/Sydney:20251011T150000
DTSTAMP:20260423T171844
CREATED:20251009T002601Z
LAST-MODIFIED:20251009T002601Z
UID:10008662-1760191200-1760194800@www.indianlink.com.au
SUMMARY:Discover Diwali
DESCRIPTION:The Discover Diwali (BL) event is set to illuminate Burnside Library in Tusmore\, South Australia\, on Saturday\, October 11\, 2025\, at 2:00 PM. This vibrant celebration invites attendees to immerse themselves in the rich traditions of Diwali through a variety of engaging activities. Participants can enjoy creating rangoli designs\, experience Bollywood dance performances\, and delve into the cultural significance of the Festival of Lights. The event is family-friendly and offers a wonderful opportunity to connect with the local community while celebrating this cherished festival.
URL:https://www.indianlink.com.au/whats-on/discover-diwali/
LOCATION:Burnside libarary\, 401\, B26\, Tusmore\, Adelaide\, South Australia\, 5065\, Australia
CATEGORIES:Community,Festival,Happening in Adelaide
ATTACH;FMTTYPE=image/jpeg:https://p9dzm74w.tinifycdn.com/wp-content/uploads/2025/10/Featured-August-sept-9.jpg
GEO:-34.9385245;138.6431384
X-APPLE-STRUCTURED-LOCATION;VALUE=URI;X-ADDRESS=Burnside libarary 401 B26 Tusmore Adelaide South Australia 5065 Australia;X-APPLE-RADIUS=500;X-TITLE=401\, B26\, Tusmore:geo:138.6431384,-34.9385245
END:VEVENT
END:VCALENDAR