BEGIN:VCALENDAR
VERSION:2.0
PRODID:-//Indian Link - ECPv6.15.20//NONSGML v1.0//EN
CALSCALE:GREGORIAN
METHOD:PUBLISH
X-ORIGINAL-URL:https://www.indianlink.com.au
X-WR-CALDESC:Events for Indian Link
REFRESH-INTERVAL;VALUE=DURATION:PT1H
X-Robots-Tag:noindex
X-PUBLISHED-TTL:PT1H
BEGIN:VTIMEZONE
TZID:Australia/Sydney
BEGIN:STANDARD
TZOFFSETFROM:+1100
TZOFFSETTO:+1000
TZNAME:AEST
DTSTART:20240406T160000
END:STANDARD
BEGIN:DAYLIGHT
TZOFFSETFROM:+1000
TZOFFSETTO:+1100
TZNAME:AEDT
DTSTART:20241005T160000
END:DAYLIGHT
BEGIN:STANDARD
TZOFFSETFROM:+1100
TZOFFSETTO:+1000
TZNAME:AEST
DTSTART:20250405T160000
END:STANDARD
BEGIN:DAYLIGHT
TZOFFSETFROM:+1000
TZOFFSETTO:+1100
TZNAME:AEDT
DTSTART:20251004T160000
END:DAYLIGHT
BEGIN:STANDARD
TZOFFSETFROM:+1100
TZOFFSETTO:+1000
TZNAME:AEST
DTSTART:20260404T160000
END:STANDARD
BEGIN:DAYLIGHT
TZOFFSETFROM:+1000
TZOFFSETTO:+1100
TZNAME:AEDT
DTSTART:20261003T160000
END:DAYLIGHT
BEGIN:STANDARD
TZOFFSETFROM:+1100
TZOFFSETTO:+1000
TZNAME:AEST
DTSTART:20270403T160000
END:STANDARD
BEGIN:DAYLIGHT
TZOFFSETFROM:+1000
TZOFFSETTO:+1100
TZNAME:AEDT
DTSTART:20271002T160000
END:DAYLIGHT
END:VTIMEZONE
BEGIN:VEVENT
DTSTART;TZID=Australia/Sydney:20260228T170000
DTEND;TZID=Australia/Sydney:20260228T200000
DTSTAMP:20260423T021927
CREATED:20260112T052723Z
LAST-MODIFIED:20260220T001119Z
UID:10008731-1772298000-1772308800@www.indianlink.com.au
SUMMARY:Harman Foundation’s 13th Annual Fundraising Gala “Light & Hope”
DESCRIPTION:  \nSydney\, Monday\, 15 December 2025: Harman Foundation will host its 13th Annual\nFundraising Gala – “Light & Hope: Creating Hope and Empowering Lives”\, on Saturday\,\n28 February 2026\, at Bowman Hall\, Blacktown. Our last gala was a huge success\, the\nturnout was over 350 people and we received enthusiastically positive feedback on how\nimpactful and uplifting our highlight item was – a dignity walk that got the entire hall\nstanding and waving. \nIn 2026 we plan to bring even more energizing and thought-provoking event. To share\nthe stories of hope and empowerment created at the HER House\, enabled by the tireless\nefforts of the Harman Foundation team and volunteers. We promise to give an evening\nof change making\, connecting with community\, and some finger-licking worthy food. \nAs a thank you to all the love and support our community has given us last year\, we have\nlaunched an early bird special tickets – $85 per person or $850 for table of ten. This is a\nholidays offer expiring on 31st December\, after which the full price will apply. From 1st\nJanuary 2026\, single ticket will be $99 and a table of ten for $950. Tickets can be booked\nonline on the Humanitix website – https://events.humanitix.com/light-and-hopefundraising-gala \nThe Harman Foundation team will also unveil its annual impact report at the event and\nshare the highlights of the meaningful work done over FY25. The gala will be graced by\nkey supporters and sponsors\, and engagement will include dances\, raffle\, auction\, and\nmore. \nAbout Harman Foundation: \nHarman Foundation’s purpose is to create hope and empower lives. Founded in 2013\,\nwe are regarded as the expert support service provider for women and their children\nseeking refuge from domestic\, sexual\, and family violence\, and for addressing distinctive\nissues faced by the wider South Asian Communities. The founders\, Harinder and\nManinder\, started the organisation as a tribute to their late son\, with the simple intention\nof offering grief and loss support to the multicultural community in NSW. Soon they\nbecame aware of the most pressing needs of the community and this led to the organic\nevolution of the organisation to become the trusted support system for women across\nAustralia. So far\, we’ve uplifted the lives of over 2000+ families including 110 women\nand their 22 children through our refuge\, HER House. \nREGISTER HERE: Humanitix
URL:https://www.indianlink.com.au/whats-on/harman-foundations-13th-annual-fundraising-gala-light-hope/
LOCATION:Bowman Hall
ATTACH;FMTTYPE=image/png:https://p9dzm74w.tinifycdn.com/wp-content/uploads/2026/01/Harman-Foundation-Light-and-Hope.png
GEO:-33.7716475;150.9091752
END:VEVENT
BEGIN:VEVENT
DTSTART;TZID=Australia/Sydney:20250919T190000
DTEND;TZID=Australia/Sydney:20250919T190000
DTSTAMP:20260423T021927
CREATED:20250821T034525Z
LAST-MODIFIED:20250821T034525Z
UID:10008483-1758308400-1758308400@www.indianlink.com.au
SUMMARY:Ashke Tour by Gurshabad and Bunny Johal Live in Sydney Concert 2025
DESCRIPTION:Catch Gurshabad and Bunny Johal live in Sydney for their highly anticipated Ashke Tour! Known for their soulful Punjabi vocals and infectious energy\, the duo promises an evening of heartfelt melodies\, energetic bhangra beats\, and crowd-favourite hits. \nThis concert is perfect for fans of Punjabi music\, lively performances\, and unforgettable live experiences. Join the celebration and dance the night away with the dynamic sounds of Gurshabad and Bunny Johal! \nGet your tickets here: https://drytickets.com.au/event/ashke-tour-by-gurshabad-and-bunny-johal-live-in-sydney-concert-2025/
URL:https://www.indianlink.com.au/whats-on/ashke-tour-by-gurshabad-and-bunny-johal-live-in-sydney-concert-2025/
LOCATION:Bowman Hall
ATTACH;FMTTYPE=image/png:https://p9dzm74w.tinifycdn.com/wp-content/uploads/2025/08/Ashke-Tour-by-Gurshabad-and-Bunny-Johal-Live-in-Sydney-Concert-2025.png
GEO:-33.7716475;150.9091752
END:VEVENT
BEGIN:VEVENT
DTSTART;TZID=Australia/Sydney:20250329T190000
DTEND;TZID=Australia/Sydney:20250329T210000
DTSTAMP:20260423T021927
CREATED:20250224T114358Z
LAST-MODIFIED:20250224T114358Z
UID:10002623-1743274800-1743282000@www.indianlink.com.au
SUMMARY:Grown Up! Standup Comedy Show by Jaspreet Singh Live in Sydney 2025
DESCRIPTION:  \nJaspreet Singh takes the stage to talk about his wildest job yet – being a father! From navigating his innate irresponsible nature to the absurdities of modern parenting\, Jaspreet weaves a show about men\, fatherhood\, love and loss. Bring your parents for this hour of hilarious (and vulnerable) encounters of self discovery  \nConditions of Entry \n• Finally\, a show you can get your child along but in the interest of the show we request you to book a corner seat to avoid any disruptions.\n• Need tickets for anyone above 5 years old\n• Seating is fully allocated\n• Event content will be in English.\n• Due to nature of the show\, House lights may be kept on fully or flickering.\n• All sales are final.\n• In an event of international/state border restrictions or venue capacity restriction\, the show will be postponed to a later date wherein existing ticket holders will be credited for same or equivalent seats.\n• Tickets are non-refundable – Tickets once booked cannot be exchanged or refunded.\n•  Booking fee will be charged & will not be refunded in case show gets cancelled or postponed.\n•  In an event of misconduct by patrons\, the event organiser reserves the right of eviction.\n•  Rights of admission are reserved.\n• Content will be almost the same as the previously performed show.\n• We will start the show on time\, and we recommend that you arrive at-least 30 minutes prior at the venue for a seamless entry.\n• These terms and conditions are subject to change from time to time at the discretion of the organizer\n• You are buying the tickets at your own will. You also understand the type of the comedy and content will be performed at the event.\n• Due to venue restrictions\, food and drinks are not allowed inside the auditorium. You may bring a bottle of water.\n• Pricing is may be changed without any prior notice. \nGET TICKETS HERE: Grown Up! Standup Comedy Show by Jaspreet Singh Live in Sydney 2025 – DryTickets.com.au
URL:https://www.indianlink.com.au/whats-on/grown-up-standup-comedy-show-by-jaspreet-singh-live-in-sydney-2025/
LOCATION:Bowman Hall
ATTACH;FMTTYPE=image/png:https://p9dzm74w.tinifycdn.com/wp-content/uploads/2025/02/Grown-up-Sydney.png
GEO:-33.7716475;150.9091752
END:VEVENT
END:VCALENDAR