BEGIN:VCALENDAR
VERSION:2.0
PRODID:-//Indian Link - ECPv6.15.20//NONSGML v1.0//EN
CALSCALE:GREGORIAN
METHOD:PUBLISH
X-ORIGINAL-URL:https://www.indianlink.com.au
X-WR-CALDESC:Events for Indian Link
REFRESH-INTERVAL;VALUE=DURATION:PT1H
X-Robots-Tag:noindex
X-PUBLISHED-TTL:PT1H
BEGIN:VTIMEZONE
TZID:Australia/Sydney
BEGIN:STANDARD
TZOFFSETFROM:+1100
TZOFFSETTO:+1000
TZNAME:AEST
DTSTART:20240406T160000
END:STANDARD
BEGIN:DAYLIGHT
TZOFFSETFROM:+1000
TZOFFSETTO:+1100
TZNAME:AEDT
DTSTART:20241005T160000
END:DAYLIGHT
BEGIN:STANDARD
TZOFFSETFROM:+1100
TZOFFSETTO:+1000
TZNAME:AEST
DTSTART:20250405T160000
END:STANDARD
BEGIN:DAYLIGHT
TZOFFSETFROM:+1000
TZOFFSETTO:+1100
TZNAME:AEDT
DTSTART:20251004T160000
END:DAYLIGHT
BEGIN:STANDARD
TZOFFSETFROM:+1100
TZOFFSETTO:+1000
TZNAME:AEST
DTSTART:20260404T160000
END:STANDARD
BEGIN:DAYLIGHT
TZOFFSETFROM:+1000
TZOFFSETTO:+1100
TZNAME:AEDT
DTSTART:20261003T160000
END:DAYLIGHT
BEGIN:STANDARD
TZOFFSETFROM:+1100
TZOFFSETTO:+1000
TZNAME:AEST
DTSTART:20270403T160000
END:STANDARD
BEGIN:DAYLIGHT
TZOFFSETFROM:+1000
TZOFFSETTO:+1100
TZNAME:AEDT
DTSTART:20271002T160000
END:DAYLIGHT
END:VTIMEZONE
BEGIN:VEVENT
DTSTART;TZID=Australia/Sydney:20260315T150000
DTEND;TZID=Australia/Sydney:20260315T170000
DTSTAMP:20260423T065329
CREATED:20260216T020037Z
LAST-MODIFIED:20260216T020037Z
UID:10008819-1773586800-1773594000@www.indianlink.com.au
SUMMARY:Hindus for Human Rights Australia & New Zealand Sydney Interfaith Holi Celebration - Mosaic\, 2026
DESCRIPTION:  \nJoin Hindus for Human Rights\, Australia for our annual inter-faith Holi celebration\, Mosaic 2026 in Sydney. \nLet music\, dancing\, food\, and colour bring us together in a spirit of celebration. \nHoli in India is a kaleidoscope of colour\, ritual\, traditions and meaning. The diversity of celebrations is what makes our festivals incomparable in their joy and vibrancy. \nWatch the spectacular dancers of Sydney Bollywood light up the stage with their energetic Holi themed dances\, participate in a light hearted inter-faith banter on navigating the complexities of friendships and celebrations across faiths\, immerse yourself in poetry and performances that capture the spirit of Holi\, relish Indian sweets and savouries and…get yourself a splash of colour (eco and skin-friendly of course!) to really feel the Holi spirit! \nA free event\, that is open to all. \nGET TICKETS HERE: humanitix
URL:https://www.indianlink.com.au/whats-on/hindus-for-human-rights-australia-new-zealand-sydney-interfaith-holi-celebration-mosaic-2026/
LOCATION:Boronia Grove Community Centre\, 40 Victoria St\, Epping\, Sydney\, NSW\, 2121\, Australia
ATTACH;FMTTYPE=image/png:https://p9dzm74w.tinifycdn.com/wp-content/uploads/2026/02/January-2026-Feature-Image-600-x-400-px-24.png
GEO:-33.7726559;151.0799951
X-APPLE-STRUCTURED-LOCATION;VALUE=URI;X-ADDRESS=Boronia Grove Community Centre 40 Victoria St Epping Sydney NSW 2121 Australia;X-APPLE-RADIUS=500;X-TITLE=40 Victoria St\, Epping:geo:151.0799951,-33.7726559
END:VEVENT
BEGIN:VEVENT
DTSTART;TZID=Australia/Sydney:20250316T153000
DTEND;TZID=Australia/Sydney:20250316T173000
DTSTAMP:20260423T065329
CREATED:20250217T113544Z
LAST-MODIFIED:20250217T113544Z
UID:10002527-1742139000-1742146200@www.indianlink.com.au
SUMMARY:Hindus for Human Rights - Holi Celebration
DESCRIPTION:  \nWhile many may know of Holi as the Hindu festival of colour\, food\, and celebration (which it is!)\, it is so much more! \nAs a testament to India’s diverse and syncretic culture\, Holi is a tribal spring festival\, an agrarian harvest festival\, a muse to poets and artists\, both Hindu and Muslim\, a call to display some warrior-like prowess to Sikhs\, and even a wonderfully progressive occasion for match-making\, where young men and women of the Bhil community\, freely choose their partners – just with a playful dab of gulal or colour. \nJoin us to discover all of this and more\, at our inter-cultural\, inclusive Holi right here in Sydney. At a time when many forces seek to divide people\, we commit to bringing people together\, with love and respect for all our diverse cultures and lived experiences\, bound by a common humanity. \nGET TICKETS HERE: HfHR Uniting for Peace Interfaith Holi Celebration
URL:https://www.indianlink.com.au/whats-on/hindus-for-human-rights-holi-celebration/
LOCATION:Boronia Grove Community Centre\, 40 Victoria St\, Epping\, Sydney\, NSW\, 2121\, Australia
ATTACH;FMTTYPE=image/jpeg:https://p9dzm74w.tinifycdn.com/wp-content/uploads/2025/02/HfHR-Holi-Invite-2025-1.jpg
GEO:-33.7726559;151.0799951
X-APPLE-STRUCTURED-LOCATION;VALUE=URI;X-ADDRESS=Boronia Grove Community Centre 40 Victoria St Epping Sydney NSW 2121 Australia;X-APPLE-RADIUS=500;X-TITLE=40 Victoria St\, Epping:geo:151.0799951,-33.7726559
END:VEVENT
END:VCALENDAR