BEGIN:VCALENDAR
VERSION:2.0
PRODID:-//Indian Link - ECPv6.15.20//NONSGML v1.0//EN
CALSCALE:GREGORIAN
METHOD:PUBLISH
X-ORIGINAL-URL:https://www.indianlink.com.au
X-WR-CALDESC:Events for Indian Link
REFRESH-INTERVAL;VALUE=DURATION:PT1H
X-Robots-Tag:noindex
X-PUBLISHED-TTL:PT1H
BEGIN:VTIMEZONE
TZID:Australia/Sydney
BEGIN:STANDARD
TZOFFSETFROM:+1100
TZOFFSETTO:+1000
TZNAME:AEST
DTSTART:20240406T160000
END:STANDARD
BEGIN:DAYLIGHT
TZOFFSETFROM:+1000
TZOFFSETTO:+1100
TZNAME:AEDT
DTSTART:20241005T160000
END:DAYLIGHT
BEGIN:STANDARD
TZOFFSETFROM:+1100
TZOFFSETTO:+1000
TZNAME:AEST
DTSTART:20250405T160000
END:STANDARD
BEGIN:DAYLIGHT
TZOFFSETFROM:+1000
TZOFFSETTO:+1100
TZNAME:AEDT
DTSTART:20251004T160000
END:DAYLIGHT
BEGIN:STANDARD
TZOFFSETFROM:+1100
TZOFFSETTO:+1000
TZNAME:AEST
DTSTART:20260404T160000
END:STANDARD
BEGIN:DAYLIGHT
TZOFFSETFROM:+1000
TZOFFSETTO:+1100
TZNAME:AEDT
DTSTART:20261003T160000
END:DAYLIGHT
END:VTIMEZONE
BEGIN:VEVENT
DTSTART;TZID=Australia/Sydney:20250823T190000
DTEND;TZID=Australia/Sydney:20250823T220000
DTSTAMP:20260425T222343
CREATED:20250714T035055Z
LAST-MODIFIED:20250714T035055Z
UID:10008387-1755975600-1755986400@www.indianlink.com.au
SUMMARY:Hum Toh Tere Aashiq Hai Season 3 Live in Concert Sydney
DESCRIPTION:  \n\nPresented by Heavens Sydney Productions\, this is not just an event — it’s an experience. Get ready for an enchanting evening filled with heartfelt melodies\, high-energy performances\, and the unforgettable magic of live music by the phenomenal Saaz Band Inc\, featuring Sydney’s finest singing talents.\n\n\n\nFrom timeless Bollywood classics to soul-stirring romantic tunes\, this night promises to take you on a musical journey like no other. Whether you’re a music lover\, a die-hard romantic\, or just looking for a night of pure entertainment — this is where you need to be.\n\n\nLet the rhythm move you. Let the music speak to your soul.\n\nCome fall in love… all over again.\n\n\nGET TICKETS HERE: Hum Toh Tere Aashiq Hai Season 3 Live in Concert Sydney 2025 – DryTickets.com.au
URL:https://www.indianlink.com.au/whats-on/hum-toh-tere-aashiq-hai-season-3-live-in-concert-sydney/
LOCATION:Bonnyrigg Sports Club
ATTACH;FMTTYPE=image/png:https://p9dzm74w.tinifycdn.com/wp-content/uploads/2025/07/Aashiq-Hai.png
GEO:-33.888697;150.8729581
END:VEVENT
BEGIN:VEVENT
DTSTART;TZID=Australia/Sydney:20250823T190000
DTEND;TZID=Australia/Sydney:20250823T190000
DTSTAMP:20260425T222343
CREATED:20250821T012009Z
LAST-MODIFIED:20250821T023126Z
UID:10008474-1755975600-1755975600@www.indianlink.com.au
SUMMARY:Hum Toh Tere Aashiq Hai Season 3 Live in Concert Sydney 2025
DESCRIPTION:Get ready for an unforgettable night of music\, energy\, and nostalgia as Hum Toh Tere Aashiq Hai Season 3 brings its magic to Sydney! Presented by Heavens Sydney Productions\, this live concert promises a spectacular evening featuring the phenomenal Saaz Band Inc and some of the city’s finest vocal talents. \nFrom timeless Bollywood classics to soul-stirring romantic hits\, the concert is designed to delight every music lover. Sing along to your favourite tracks\, sway to the rhythm\, and relive the golden era of Indian cinema in a high-energy\, immersive experience. \nWhether you’re a die-hard fan of Bollywood music or simply looking for a night of joyous entertainment\, this concert has something for everyone. With its dynamic performances\, vibrant melodies\, and unforgettable stage presence\, it’s an evening that will stay in your heart long after the last note fades. \n✨ Don’t miss your chance to fall in love with Bollywood music all over again!
URL:https://www.indianlink.com.au/whats-on/hum-toh-tere-aashiq-hai-season-3-live-in-concert-sydney-2025/
LOCATION:Bonnyrigg Sports Club
CATEGORIES:Happening in Sydney,Stage and Performing
ATTACH;FMTTYPE=image/jpeg:https://p9dzm74w.tinifycdn.com/wp-content/uploads/2025/08/hum-toh-tere-aashiq-hai-season-3.jpg
GEO:-33.888697;150.8729581
END:VEVENT
END:VCALENDAR