BEGIN:VCALENDAR
VERSION:2.0
PRODID:-//Indian Link - ECPv6.15.20//NONSGML v1.0//EN
CALSCALE:GREGORIAN
METHOD:PUBLISH
X-WR-CALNAME:Indian Link
X-ORIGINAL-URL:https://www.indianlink.com.au
X-WR-CALDESC:Events for Indian Link
REFRESH-INTERVAL;VALUE=DURATION:PT1H
X-Robots-Tag:noindex
X-PUBLISHED-TTL:PT1H
BEGIN:VTIMEZONE
TZID:Australia/Sydney
BEGIN:STANDARD
TZOFFSETFROM:+1100
TZOFFSETTO:+1000
TZNAME:AEST
DTSTART:20240406T160000
END:STANDARD
BEGIN:DAYLIGHT
TZOFFSETFROM:+1000
TZOFFSETTO:+1100
TZNAME:AEDT
DTSTART:20241005T160000
END:DAYLIGHT
BEGIN:STANDARD
TZOFFSETFROM:+1100
TZOFFSETTO:+1000
TZNAME:AEST
DTSTART:20250405T160000
END:STANDARD
BEGIN:DAYLIGHT
TZOFFSETFROM:+1000
TZOFFSETTO:+1100
TZNAME:AEDT
DTSTART:20251004T160000
END:DAYLIGHT
BEGIN:STANDARD
TZOFFSETFROM:+1100
TZOFFSETTO:+1000
TZNAME:AEST
DTSTART:20260404T160000
END:STANDARD
BEGIN:DAYLIGHT
TZOFFSETFROM:+1000
TZOFFSETTO:+1100
TZNAME:AEDT
DTSTART:20261003T160000
END:DAYLIGHT
END:VTIMEZONE
BEGIN:VEVENT
DTSTART;TZID=Australia/Sydney:20251011T110000
DTEND;TZID=Australia/Sydney:20251012T210000
DTSTAMP:20260423T223032
CREATED:20251008T022832Z
LAST-MODIFIED:20251008T022832Z
UID:10008657-1760180400-1760302800@www.indianlink.com.au
SUMMARY:Hindu Council of Australia - Diwali 2025
DESCRIPTION:Get ready to celebrate Australia’s Biggest Deepavali 2025 with your family and friends!\n\n\n\nFun activities for kids\nDelicious food\nFireworks on both days\nCultural performances & more\n\n\n\nBlacktown Showground\n11th & 12th October | 11 AM – 9 PM\n\n\nFREE ENTRY
URL:https://www.indianlink.com.au/whats-on/hindu-council-of-australia-diwali-2025/
LOCATION:Blacktown Showground\, Blacktown Showground\, Richmond Rd\, Blacktown\, New South Wales\, 2148\, Australia
CATEGORIES:Happening in Sydney
ATTACH;FMTTYPE=image/jpeg:https://p9dzm74w.tinifycdn.com/wp-content/uploads/2025/10/hindu-council-diwali-e1759890498504.jpg
GEO:-33.7540347;150.8898385
X-APPLE-STRUCTURED-LOCATION;VALUE=URI;X-ADDRESS=Blacktown Showground Blacktown Showground Richmond Rd Blacktown New South Wales 2148 Australia;X-APPLE-RADIUS=500;X-TITLE=Blacktown Showground\, Richmond Rd:geo:150.8898385,-33.7540347
END:VEVENT
BEGIN:VEVENT
DTSTART;TZID=Australia/Sydney:20251005T160000
DTEND;TZID=Australia/Sydney:20251005T160000
DTSTAMP:20260423T223032
CREATED:20250825T031353Z
LAST-MODIFIED:20250825T031353Z
UID:10008516-1759680000-1759680000@www.indianlink.com.au
SUMMARY:Aghori An Unforgettable Experience Navratri Night 2025 in Sydney
DESCRIPTION:Get ready\, Sydney! Celebrate culture\, music\, and festive joy. \nThis vibrant evening promises a fusion of traditional Garba beats\, powerful Dandiya rhythms\, and modern musical energy. Aghori will lead the stage with electrifying performances that will have you dancing from start to finish. \nWhether you’re a seasoned Garba lover or attending your first Navratri night\, this is the perfect place to celebrate with your friends and family. Enjoy colorful attire\, authentic vibes\, and unmatched musical magic under the Sydney sky. \nEvent Highlights: \n\n🎤 Live performance by Aghori\n🕺 Traditional Garba & Dandiya celebration\n📍 Spacious outdoor venue in Blacktown Showground\n🍴 Delicious Indian food stalls\n🎉 Family-friendly festive atmosphere\n\nMark your calendar\, bring your Dandiya sticks\, and get ready to celebrate Navratri like never before! \nGet your tickets here: https://www.premiertickets.co/event/aghori-an-unforgettable-experience-navratri-night-2025/
URL:https://www.indianlink.com.au/whats-on/aghori-an-unforgettable-experience-navratri-night-2025-in-sydney/
LOCATION:Blacktown Showground\, Blacktown Showground\, Richmond Rd\, Blacktown\, New South Wales\, 2148\, Australia
ATTACH;FMTTYPE=image/png:https://p9dzm74w.tinifycdn.com/wp-content/uploads/2025/08/Aghori-An-Unforgettable-Experience-Navratri-Night-2025-in-Sydney.png
GEO:-33.7540347;150.8898385
X-APPLE-STRUCTURED-LOCATION;VALUE=URI;X-ADDRESS=Blacktown Showground Blacktown Showground Richmond Rd Blacktown New South Wales 2148 Australia;X-APPLE-RADIUS=500;X-TITLE=Blacktown Showground\, Richmond Rd:geo:150.8898385,-33.7540347
END:VEVENT
END:VCALENDAR