BEGIN:VCALENDAR
VERSION:2.0
PRODID:-//Indian Link - ECPv6.15.20//NONSGML v1.0//EN
CALSCALE:GREGORIAN
METHOD:PUBLISH
X-ORIGINAL-URL:https://www.indianlink.com.au
X-WR-CALDESC:Events for Indian Link
REFRESH-INTERVAL;VALUE=DURATION:PT1H
X-Robots-Tag:noindex
X-PUBLISHED-TTL:PT1H
BEGIN:VTIMEZONE
TZID:Australia/Sydney
BEGIN:STANDARD
TZOFFSETFROM:+1100
TZOFFSETTO:+1000
TZNAME:AEST
DTSTART:20240406T160000
END:STANDARD
BEGIN:DAYLIGHT
TZOFFSETFROM:+1000
TZOFFSETTO:+1100
TZNAME:AEDT
DTSTART:20241005T160000
END:DAYLIGHT
BEGIN:STANDARD
TZOFFSETFROM:+1100
TZOFFSETTO:+1000
TZNAME:AEST
DTSTART:20250405T160000
END:STANDARD
BEGIN:DAYLIGHT
TZOFFSETFROM:+1000
TZOFFSETTO:+1100
TZNAME:AEDT
DTSTART:20251004T160000
END:DAYLIGHT
BEGIN:STANDARD
TZOFFSETFROM:+1100
TZOFFSETTO:+1000
TZNAME:AEST
DTSTART:20260404T160000
END:STANDARD
BEGIN:DAYLIGHT
TZOFFSETFROM:+1000
TZOFFSETTO:+1100
TZNAME:AEDT
DTSTART:20261003T160000
END:DAYLIGHT
END:VTIMEZONE
BEGIN:VEVENT
DTSTART;TZID=Australia/Sydney:20250207T193000
DTEND;TZID=Australia/Sydney:20250207T203000
DTSTAMP:20260423T104318
CREATED:20250128T233725Z
LAST-MODIFIED:20250128T233725Z
UID:10002475-1738956600-1738960200@www.indianlink.com.au
SUMMARY:BrisAsia Improvised
DESCRIPTION:  \n\n\n\n\n\nBrisAsia Festival and Big Fork Theatre present: BrisAsia Improvised \nGet ready for a madcap fusion of comedy\, culture\, and language in this improvised show featuring some of Big Fork Theatre’s best multicultural performers! Through true stories of growing up BrisAsian and wild\, on-the-spot characters inspired by audience suggestions\, this show promises a unique comedic experience where anything can happen. Improvised comedy means no scripts and no safety net – just hilarious scenes\, characters\, and stories created right before your eyes. \nFriday 7 Feb 2025 \nStoryteller: Councillor Emily Kim \nCast:\nMarkus Daniswara\nVictor Gallegos Rejas\nAnne Laroccia\nJanette McBride\nHimali Ratnayake\nMonica Tseng\nTrish Khoo (music) \nSaturday 8 Feb 2025 \nStoryteller:Janaki Gerard \nCast:\nDeborah Blank\nMarkus Daniswara\nJanette McBride\nHuyen Nguyen\nHimali Ratnayake\nMonica Tseng\nTrish Khoo (music) \n“I haven’t been to anything like this before\,” says Nothing Ever Happens in Brisbane. “It was fun\, it was loose\, it was cool… I laughed a lot and felt right at home.” \nDon’t miss the chance to meet your new best friends in comedy! \nSuitable ages 15+; may contain adult themes and strong language. Under 18s must be accompanied by a legal guardian. \nThe BrisAsia Festival is presented by Brisbane City Council and produced by Sounds Across Oceans. \nFAQs about our shows & venue here: bigforktheatre.com/big-fork-faqs \nBig Fork Theatre is Brisbane’s home of improv & comedy\, located centrally in Fortitude Valley. With great shows on Thursday to Sunday every week\, we have something for everyone. Improvised comedy\, sketch comedy\, stand-up comedy\, and more! Arrive early and grab a drink at our bar. \n“Deeply entertaining” – Anywhere Festival \n“Chaotic hilarity” – Nothing Ever Happens In Brisbane \n“[the audience] exited the theatre with tears of laughter still streaming down their face.” – Theatre Haus \nVenue information here: bigforktheatre.com/about-our-theatre \nREFUND POLICY: Cancellations made 24 hours prior to the show start time will receive a full refund. Cancellations within 24 hours of the commencement time can transfer tickets to a future show. No shows will not receive a refund. Please contact us with any questions. \n\nGET TICKETS HERE: BrisAsia Improvised Tickets\, Multiple Dates | Eventbrite
URL:https://www.indianlink.com.au/whats-on/brisasia-improvised/
LOCATION:big fork theatre\, Saint Pauls Terrace 252\, Fortitude Valley\, QLD\, 4000\, Australia
ATTACH;FMTTYPE=image/png:https://p9dzm74w.tinifycdn.com/wp-content/uploads/2025/01/Brisimprov-1.png
GEO:-27.4570194;153.0302569
X-APPLE-STRUCTURED-LOCATION;VALUE=URI;X-ADDRESS=big fork theatre Saint Pauls Terrace 252 Fortitude Valley QLD 4000 Australia;X-APPLE-RADIUS=500;X-TITLE=Saint Pauls Terrace 252:geo:153.0302569,-27.4570194
END:VEVENT
BEGIN:VEVENT
DTSTART;TZID=Australia/Sydney:20250201T193000
DTEND;TZID=Australia/Sydney:20250201T210000
DTSTAMP:20260423T104318
CREATED:20250103T140328Z
LAST-MODIFIED:20250103T140328Z
UID:10002433-1738438200-1738443600@www.indianlink.com.au
SUMMARY:BrisAsia Stands Up
DESCRIPTION:A Night of Comedy Gold!\nLaugh out loud with Brisbane’s top Asian-Australian comics at BrisAsia Stands Up! Hosted by Big Fork Theatre\, this comedy showcase features sharp\, hilarious talent lighting up stages across Australia. Book now for a night of punchlines and perspective.
URL:https://www.indianlink.com.au/whats-on/brisasia-stands-up/2025-02-01/
LOCATION:big fork theatre\, Saint Pauls Terrace 252\, Fortitude Valley\, QLD\, 4000\, Australia
CATEGORIES:Happening in Brisbane
ATTACH;FMTTYPE=image/jpeg:https://p9dzm74w.tinifycdn.com/wp-content/uploads/2025/01/brisasia-stands-up-e1735912981107.jpeg
GEO:-27.4570194;153.0302569
X-APPLE-STRUCTURED-LOCATION;VALUE=URI;X-ADDRESS=big fork theatre Saint Pauls Terrace 252 Fortitude Valley QLD 4000 Australia;X-APPLE-RADIUS=500;X-TITLE=Saint Pauls Terrace 252:geo:153.0302569,-27.4570194
END:VEVENT
BEGIN:VEVENT
DTSTART;TZID=Australia/Sydney:20250131T193000
DTEND;TZID=Australia/Sydney:20250131T211500
DTSTAMP:20260423T104318
CREATED:20250106T063455Z
LAST-MODIFIED:20250106T063455Z
UID:10002443-1738351800-1738358100@www.indianlink.com.au
SUMMARY:BrisAsia Stands Up
DESCRIPTION:  \nBrisAsia Festival and Big Fork Theatre present: BrisAsia Stands Up \nPrepare for an unforgettable night of laughs at BrisAsia Stands Up – the ultimate showcase of Brisbane’s top Asian-Australian comedy talent! \nPresented by Big Fork Theatre\, this show brings together the sharpest local voices lighting up stages nationwide and making waves on TV\, radio\, and online. Our comedy legends have shared stages with world-class acts and are primed to unleash their hottest material yet. \nAfter two sold-out years\, tickets are flying – so secure yours now to catch Brisbane’s finest comics in action. With past guests like Ting Lim\, Sandeep Totlani\, Ashwin Segkar\, and Jo Gowda\, this year’s lineup promises to be just as electric. Don’t miss out – join us at BrisAsia Stands Up for a night of punchlines\, perspective\, and pure comedy gold! \nSuitable ages 15+\, may contain adult themes and strong language. Under 18s must be accompanied by a legal guardian. \nPresented by Big Fork Theatre \nFAQs about our shows & venue here: bigforktheatre.com/big-fork-faqs \nBig Fork Theatre is Brisbane’s home of improv & comedy\, located centrally in Fortitude Valley. With great shows on Thursday to Sunday every week\, we have something for everyone. Improvised comedy\, sketch comedy\, stand-up comedy\, and more! Arrive early and grab a drink at our bar. \n“Deeply entertaining” – Anywhere Festival \n“Chaotic hilarity” – Nothing Ever Happens In Brisbane \n“[the audience] exited the theatre with tears of laughter still streaming down their face.” – Theatre Haus \nVenue information here: bigforktheatre.com/about-our-theatre \nREFUND POLICY: Cancellations made 24 hours prior to the show start time will receive a full refund. Cancellations within 24 hours of the commencement time can transfer tickets to a future show. No shows will not receive a refund. Please contact us with any questions. \nGET TICKETS HERE: BrisAsia Stands Up Tickets\, Multiple Dates | Eventbrite
URL:https://www.indianlink.com.au/whats-on/brisasia-stands-up-2/
LOCATION:big fork theatre\, Saint Pauls Terrace 252\, Fortitude Valley\, QLD\, 4000\, Australia
ATTACH;FMTTYPE=image/png:https://p9dzm74w.tinifycdn.com/wp-content/uploads/2025/01/BrisAsia.png
GEO:-27.4570194;153.0302569
X-APPLE-STRUCTURED-LOCATION;VALUE=URI;X-ADDRESS=big fork theatre Saint Pauls Terrace 252 Fortitude Valley QLD 4000 Australia;X-APPLE-RADIUS=500;X-TITLE=Saint Pauls Terrace 252:geo:153.0302569,-27.4570194
END:VEVENT
BEGIN:VEVENT
DTSTART;TZID=Australia/Sydney:20250131T193000
DTEND;TZID=Australia/Sydney:20250131T210000
DTSTAMP:20260423T104318
CREATED:20250103T140328Z
LAST-MODIFIED:20250103T140328Z
UID:10002432-1738351800-1738357200@www.indianlink.com.au
SUMMARY:BrisAsia Stands Up
DESCRIPTION:A Night of Comedy Gold!\nLaugh out loud with Brisbane’s top Asian-Australian comics at BrisAsia Stands Up! Hosted by Big Fork Theatre\, this comedy showcase features sharp\, hilarious talent lighting up stages across Australia. Book now for a night of punchlines and perspective.
URL:https://www.indianlink.com.au/whats-on/brisasia-stands-up/2025-01-31/
LOCATION:big fork theatre\, Saint Pauls Terrace 252\, Fortitude Valley\, QLD\, 4000\, Australia
CATEGORIES:Happening in Brisbane
ATTACH;FMTTYPE=image/jpeg:https://p9dzm74w.tinifycdn.com/wp-content/uploads/2025/01/brisasia-stands-up-e1735912981107.jpeg
GEO:-27.4570194;153.0302569
X-APPLE-STRUCTURED-LOCATION;VALUE=URI;X-ADDRESS=big fork theatre Saint Pauls Terrace 252 Fortitude Valley QLD 4000 Australia;X-APPLE-RADIUS=500;X-TITLE=Saint Pauls Terrace 252:geo:153.0302569,-27.4570194
END:VEVENT
END:VCALENDAR