BEGIN:VCALENDAR
VERSION:2.0
PRODID:-//Indian Link - ECPv6.15.20//NONSGML v1.0//EN
CALSCALE:GREGORIAN
METHOD:PUBLISH
X-ORIGINAL-URL:https://www.indianlink.com.au
X-WR-CALDESC:Events for Indian Link
REFRESH-INTERVAL;VALUE=DURATION:PT1H
X-Robots-Tag:noindex
X-PUBLISHED-TTL:PT1H
BEGIN:VTIMEZONE
TZID:Australia/Sydney
BEGIN:STANDARD
TZOFFSETFROM:+1100
TZOFFSETTO:+1000
TZNAME:AEST
DTSTART:20240406T160000
END:STANDARD
BEGIN:DAYLIGHT
TZOFFSETFROM:+1000
TZOFFSETTO:+1100
TZNAME:AEDT
DTSTART:20241005T160000
END:DAYLIGHT
BEGIN:STANDARD
TZOFFSETFROM:+1100
TZOFFSETTO:+1000
TZNAME:AEST
DTSTART:20250405T160000
END:STANDARD
BEGIN:DAYLIGHT
TZOFFSETFROM:+1000
TZOFFSETTO:+1100
TZNAME:AEDT
DTSTART:20251004T160000
END:DAYLIGHT
BEGIN:STANDARD
TZOFFSETFROM:+1100
TZOFFSETTO:+1000
TZNAME:AEST
DTSTART:20260404T160000
END:STANDARD
BEGIN:DAYLIGHT
TZOFFSETFROM:+1000
TZOFFSETTO:+1100
TZNAME:AEDT
DTSTART:20261003T160000
END:DAYLIGHT
END:VTIMEZONE
BEGIN:VEVENT
DTSTART;TZID=Australia/Sydney:20250928T120000
DTEND;TZID=Australia/Sydney:20250928T170000
DTSTAMP:20260423T122214
CREATED:20250925T035857Z
LAST-MODIFIED:20250925T035857Z
UID:10008633-1759060800-1759078800@www.indianlink.com.au
SUMMARY:Indian Link Radio potluck picnic
DESCRIPTION:Indian Link Radio invites you for a fun-filled afternoon where anchors\, listeners & families come together! \nHow to get there: \nEnter from Elizabeth Macarthur Drive (near Norwest Boulevard).\nDrive up to the main car park.\nThe picnic spot is right next to the car park – no long walks needed.\nPlenty of street parking also available nearby. \nWhat’s happening: A relaxed potluck picnic\, fun games\, music\, and a chance to mingle with your favourite ILR anchors & fellow listeners! \nJust bring your family\, pack something to share\, and get ready for an afternoon of fun\, food & friendship \nRSVP by DM on Facebook OR WhatsApp 0426 228 281.We can’t wait to see you there!
URL:https://www.indianlink.com.au/whats-on/indian-link-radio-potluck-picnic/
LOCATION:Bella Vista Farm Park\, 2–8 Elizabeth Macarthur Drive\, Bella Vista\, NSW\, 2153\, Australia
CATEGORIES:Happening in Sydney
ATTACH;FMTTYPE=image/jpeg:https://p9dzm74w.tinifycdn.com/wp-content/uploads/2025/09/indian-link-radio-picnic-e1758760990739.jpg
GEO:-33.7441795;150.9515957
X-APPLE-STRUCTURED-LOCATION;VALUE=URI;X-ADDRESS=Bella Vista Farm Park 2–8 Elizabeth Macarthur Drive Bella Vista NSW 2153 Australia;X-APPLE-RADIUS=500;X-TITLE=2–8 Elizabeth Macarthur Drive:geo:150.9515957,-33.7441795
END:VEVENT
END:VCALENDAR