BEGIN:VCALENDAR
VERSION:2.0
PRODID:-//Indian Link - ECPv6.15.20//NONSGML v1.0//EN
CALSCALE:GREGORIAN
METHOD:PUBLISH
X-WR-CALNAME:Indian Link
X-ORIGINAL-URL:https://www.indianlink.com.au
X-WR-CALDESC:Events for Indian Link
REFRESH-INTERVAL;VALUE=DURATION:PT1H
X-Robots-Tag:noindex
X-PUBLISHED-TTL:PT1H
BEGIN:VTIMEZONE
TZID:Australia/Sydney
BEGIN:STANDARD
TZOFFSETFROM:+1100
TZOFFSETTO:+1000
TZNAME:AEST
DTSTART:20250405T160000
END:STANDARD
BEGIN:DAYLIGHT
TZOFFSETFROM:+1000
TZOFFSETTO:+1100
TZNAME:AEDT
DTSTART:20251004T160000
END:DAYLIGHT
BEGIN:STANDARD
TZOFFSETFROM:+1100
TZOFFSETTO:+1000
TZNAME:AEST
DTSTART:20260404T160000
END:STANDARD
BEGIN:DAYLIGHT
TZOFFSETFROM:+1000
TZOFFSETTO:+1100
TZNAME:AEDT
DTSTART:20261003T160000
END:DAYLIGHT
BEGIN:STANDARD
TZOFFSETFROM:+1100
TZOFFSETTO:+1000
TZNAME:AEST
DTSTART:20270403T160000
END:STANDARD
BEGIN:DAYLIGHT
TZOFFSETFROM:+1000
TZOFFSETTO:+1100
TZNAME:AEDT
DTSTART:20271002T160000
END:DAYLIGHT
END:VTIMEZONE
BEGIN:VEVENT
DTSTART;VALUE=DATE:20260416
DTEND;VALUE=DATE:20260421
DTSTAMP:20260423T051459
CREATED:20260416T025856Z
LAST-MODIFIED:20260416T025856Z
UID:10008889-1776297600-1776729599@www.indianlink.com.au
SUMMARY:Dahn Rozario - Dahnward Spiral
DESCRIPTION:  \nDahnward Spiral is my brand-new hour about travelling\, learning how to live through misery and constantly finding myself in places I clearly don’t belong. From India to bed bugs\, animals\, culture shocks and bad decisions. It’s also a shit pun. \nGET TICKETS HERE: Dahn Rozario | Dahnward Spiral | Melbourne International Comedy Festival
URL:https://www.indianlink.com.au/whats-on/dahn-rozario-dahnward-spiral-2/
LOCATION:bar 1806\, 169 Exhibition Street\, Melbourne\, Victoria\, 3000
ATTACH;FMTTYPE=image/png:https://p9dzm74w.tinifycdn.com/wp-content/uploads/2026/04/January-2026-Feature-Image-600-x-400-px-49.png
GEO:-37.811684;144.9701283
X-APPLE-STRUCTURED-LOCATION;VALUE=URI;X-ADDRESS=bar 1806 169 Exhibition Street Melbourne Victoria 3000;X-APPLE-RADIUS=500;X-TITLE=169 Exhibition Street:geo:144.9701283,-37.811684
END:VEVENT
END:VCALENDAR