BEGIN:VCALENDAR
VERSION:2.0
PRODID:-//Indian Link - ECPv6.15.20//NONSGML v1.0//EN
CALSCALE:GREGORIAN
METHOD:PUBLISH
X-ORIGINAL-URL:https://www.indianlink.com.au
X-WR-CALDESC:Events for Indian Link
REFRESH-INTERVAL;VALUE=DURATION:PT1H
X-Robots-Tag:noindex
X-PUBLISHED-TTL:PT1H
BEGIN:VTIMEZONE
TZID:Australia/Sydney
BEGIN:STANDARD
TZOFFSETFROM:+1100
TZOFFSETTO:+1000
TZNAME:AEST
DTSTART:20240406T160000
END:STANDARD
BEGIN:DAYLIGHT
TZOFFSETFROM:+1000
TZOFFSETTO:+1100
TZNAME:AEDT
DTSTART:20241005T160000
END:DAYLIGHT
BEGIN:STANDARD
TZOFFSETFROM:+1100
TZOFFSETTO:+1000
TZNAME:AEST
DTSTART:20250405T160000
END:STANDARD
BEGIN:DAYLIGHT
TZOFFSETFROM:+1000
TZOFFSETTO:+1100
TZNAME:AEDT
DTSTART:20251004T160000
END:DAYLIGHT
BEGIN:STANDARD
TZOFFSETFROM:+1100
TZOFFSETTO:+1000
TZNAME:AEST
DTSTART:20260404T160000
END:STANDARD
BEGIN:DAYLIGHT
TZOFFSETFROM:+1000
TZOFFSETTO:+1100
TZNAME:AEDT
DTSTART:20261003T160000
END:DAYLIGHT
END:VTIMEZONE
BEGIN:VEVENT
DTSTART;TZID=Australia/Sydney:20250918T190000
DTEND;TZID=Australia/Sydney:20250918T223000
DTSTAMP:20260423T104105
CREATED:20250827T002017Z
LAST-MODIFIED:20250827T002017Z
UID:10008540-1758222000-1758234600@www.indianlink.com.au
SUMMARY:Brown Women Poetry Sydney 2025
DESCRIPTION:  \nSydney\, get ready! Brown Women Poetry is partnering with WestWords for an intimate evening of poetry and spoken word. Join us to share joy\, pain and art together in a space held by sisterhood. \nWe welcome people of all genders and cultural heritages to attend this celebration of voice\, vulnerability and strength. Families are welcome\, parental guidance may be required for young children due to the mature themes of some poems. \nShowcase\nDoors will open at 6.30pm\, get in quick for the best seats! WestWords is an easy walk from Parramatta Interchange\, as well as several carparks. \nWhen: 7pm – 8.30pm \nWhere: WestWords\, 41 Hunter Street\, Parramatta \nOur host for the evening is the heartwarming Rupa Parthasarathy. \nAfterparty\nIt wouldn’t be a South Asian gathering without food! After the show\, you’re invited to join us to grab a bite to eat\, toast to a good night and connect with these amazing women. \nWhen: 8.30pm – 10.30pm \nWhere: Nautanki Sala\, 79 Macquarie Street\, Parramatta (just around the corner from WestWords) \nPlease note that food and drink are not included in the showcase ticket. Check out the dine-in menu. \nGet your tickets here: https://events.humanitix.com/brown-women-poetry-sydney-2025
URL:https://www.indianlink.com.au/whats-on/brown-women-poetry-sydney-2025/
LOCATION:Australian South Asian Centre\, Launton Place\, Cranbourne East\, VIC\, 3977\, Australia
ATTACH;FMTTYPE=image/png:https://p9dzm74w.tinifycdn.com/wp-content/uploads/2025/08/Brown-Women-Poetry-2025.png
GEO:-38.102651;145.303641
X-APPLE-STRUCTURED-LOCATION;VALUE=URI;X-ADDRESS=Australian South Asian Centre Launton Place Cranbourne East VIC 3977 Australia;X-APPLE-RADIUS=500;X-TITLE=Launton Place:geo:145.303641,-38.102651
END:VEVENT
END:VCALENDAR