BEGIN:VCALENDAR
VERSION:2.0
PRODID:-//Indian Link - ECPv6.15.20//NONSGML v1.0//EN
CALSCALE:GREGORIAN
METHOD:PUBLISH
X-ORIGINAL-URL:https://www.indianlink.com.au
X-WR-CALDESC:Events for Indian Link
REFRESH-INTERVAL;VALUE=DURATION:PT1H
X-Robots-Tag:noindex
X-PUBLISHED-TTL:PT1H
BEGIN:VTIMEZONE
TZID:Australia/Sydney
BEGIN:STANDARD
TZOFFSETFROM:+1100
TZOFFSETTO:+1000
TZNAME:AEST
DTSTART:20240406T160000
END:STANDARD
BEGIN:DAYLIGHT
TZOFFSETFROM:+1000
TZOFFSETTO:+1100
TZNAME:AEDT
DTSTART:20241005T160000
END:DAYLIGHT
BEGIN:STANDARD
TZOFFSETFROM:+1100
TZOFFSETTO:+1000
TZNAME:AEST
DTSTART:20250405T160000
END:STANDARD
BEGIN:DAYLIGHT
TZOFFSETFROM:+1000
TZOFFSETTO:+1100
TZNAME:AEDT
DTSTART:20251004T160000
END:DAYLIGHT
BEGIN:STANDARD
TZOFFSETFROM:+1100
TZOFFSETTO:+1000
TZNAME:AEST
DTSTART:20260404T160000
END:STANDARD
BEGIN:DAYLIGHT
TZOFFSETFROM:+1000
TZOFFSETTO:+1100
TZNAME:AEDT
DTSTART:20261003T160000
END:DAYLIGHT
END:VTIMEZONE
BEGIN:VEVENT
DTSTART;TZID=Australia/Sydney:20251113T080000
DTEND;TZID=Australia/Sydney:20251113T170000
DTSTAMP:20260423T170731
CREATED:20250819T013844Z
LAST-MODIFIED:20251106T012319Z
UID:10008698-1763020800-1763053200@www.indianlink.com.au
SUMMARY:An Evening with William Dalrymple
DESCRIPTION:  \nFrom 250 BCE to 1200 CE\, India was not merely a land of spiritual depth but a dynamic hub of innovation and exchange. Its contributions in mathematics\, astronomy\, medicine\, art and philosophy traversed the vast expanse from the Red Sea to the Pacific\, shaping cultures and ideas across continents. \nJoin one of the worlds most celebrated historians\, William Dalrymple\, for an illuminating evening as he delves into the rich tapestry of ancient Indian civilisation. Drawing upon a lifetime immersed in Indian culture and studying its history. \nDalrymple offers a panoramic view of India’s profound influence on the world as explored in his chart-topping podcast Empire and bestselling books including The Golden Road\, The Anarchy\, Return of a King and The Last Mughal. \nWeaving narratives of emperors\, monks\, merchants and scholars\, bringing to life the stories of India’s golden age\, Dalrymple examines how Indian thought influenced global traditions\, from the architectural marvels of Angkor Wat to the philosophical underpinnings of distant societies. \nThis event is more than a historical recount; it’s an exploration of how ancient India’s legacy continues to resonate today. Whether you’re a history enthusiast or a curious mind\, don’t miss this opportunity to gain insights from a master storyteller who brings the past vividly into the present. \nAn Evening with William Dalrymple promises to be a compelling journey through time\, revealing the enduring impact of India’s ancient wisdom on our modern world. \nDate & Place: Nov 7th – Perth\nNov 11th – Melbourne\nNov 13th – Adelaide \nGET TICKETS HERE: https://premier.ticketek.com.au/shows/show.aspx?sh=WBHDALRY25
URL:https://www.indianlink.com.au/whats-on/an-evening-with-william-dalrymple-3/2025-11-13/
LOCATION:Hamer Hall\, Saint Kilda Road\, Southbank\, Victoria\, 3004\, Australia
ATTACH;FMTTYPE=image/png:https://p9dzm74w.tinifycdn.com/wp-content/uploads/2025/08/William-D-1.png
GEO:-37.8201562;144.9679812
X-APPLE-STRUCTURED-LOCATION;VALUE=URI;X-ADDRESS=Hamer Hall Saint Kilda Road Southbank Victoria 3004 Australia;X-APPLE-RADIUS=500;X-TITLE=Saint Kilda Road:geo:144.9679812,-37.8201562
END:VEVENT
BEGIN:VEVENT
DTSTART;TZID=Australia/Sydney:20251110T184500
DTEND;TZID=Australia/Sydney:20251110T210000
DTSTAMP:20260423T170731
CREATED:20250819T013844Z
LAST-MODIFIED:20251106T012319Z
UID:10008446-1762800300-1762808400@www.indianlink.com.au
SUMMARY:An Evening with William Dalrymple
DESCRIPTION:  \nFrom 250 BCE to 1200 CE\, India was not merely a land of spiritual depth but a dynamic hub of innovation and exchange. Its contributions in mathematics\, astronomy\, medicine\, art and philosophy traversed the vast expanse from the Red Sea to the Pacific\, shaping cultures and ideas across continents. \nJoin one of the worlds most celebrated historians\, William Dalrymple\, for an illuminating evening as he delves into the rich tapestry of ancient Indian civilisation. Drawing upon a lifetime immersed in Indian culture and studying its history. \nDalrymple offers a panoramic view of India’s profound influence on the world as explored in his chart-topping podcast Empire and bestselling books including The Golden Road\, The Anarchy\, Return of a King and The Last Mughal. \nWeaving narratives of emperors\, monks\, merchants and scholars\, bringing to life the stories of India’s golden age\, Dalrymple examines how Indian thought influenced global traditions\, from the architectural marvels of Angkor Wat to the philosophical underpinnings of distant societies. \nThis event is more than a historical recount; it’s an exploration of how ancient India’s legacy continues to resonate today. Whether you’re a history enthusiast or a curious mind\, don’t miss this opportunity to gain insights from a master storyteller who brings the past vividly into the present. \nAn Evening with William Dalrymple promises to be a compelling journey through time\, revealing the enduring impact of India’s ancient wisdom on our modern world. \nDate & Place: Nov 7th – Perth\nNov 11th – Melbourne\nNov 13th – Adelaide \nGET TICKETS HERE: https://premier.ticketek.com.au/shows/show.aspx?sh=WBHDALRY25
URL:https://www.indianlink.com.au/whats-on/an-evening-with-william-dalrymple-3/2025-11-10/
LOCATION:Hamer Hall\, Saint Kilda Road\, Southbank\, Victoria\, 3004\, Australia
ATTACH;FMTTYPE=image/png:https://p9dzm74w.tinifycdn.com/wp-content/uploads/2025/08/William-D-1.png
GEO:-37.8201562;144.9679812
X-APPLE-STRUCTURED-LOCATION;VALUE=URI;X-ADDRESS=Hamer Hall Saint Kilda Road Southbank Victoria 3004 Australia;X-APPLE-RADIUS=500;X-TITLE=Saint Kilda Road:geo:144.9679812,-37.8201562
END:VEVENT
BEGIN:VEVENT
DTSTART;TZID=Australia/Sydney:20251107T184500
DTEND;TZID=Australia/Sydney:20251107T210000
DTSTAMP:20260423T170731
CREATED:20250819T012805Z
LAST-MODIFIED:20250819T012805Z
UID:10008444-1762541100-1762549200@www.indianlink.com.au
SUMMARY:An Evening with William Dalrymple
DESCRIPTION:  \nFrom 250 BCE to 1200 CE\, India was not merely a land of spiritual depth but a dynamic hub of innovation and exchange. Its contributions in mathematics\, astronomy\, medicine\, art and philosophy traversed the vast expanse from the Red Sea to the Pacific\, shaping cultures and ideas across continents. \nJoin one of the worlds most celebrated historians\, William Dalrymple\, for an illuminating evening as he delves into the rich tapestry of ancient Indian civilisation. Drawing upon a lifetime immersed in Indian culture and studying its history. \nDalrymple offers a panoramic view of India’s profound influence on the world as explored in his chart-topping podcast Empire and bestselling books including The Golden Road\, The Anarchy\, Return of a King and The Last Mughal. \nWeaving narratives of emperors\, monks\, merchants and scholars\, bringing to life the stories of India’s golden age\, Dalrymple examines how Indian thought influenced global traditions\, from the architectural marvels of Angkor Wat to the philosophical underpinnings of distant societies. \nThis event is more than a historical recount; it’s an exploration of how ancient India’s legacy continues to resonate today. Whether you’re a history enthusiast or a curious mind\, don’t miss this opportunity to gain insights from a master storyteller who brings the past vividly into the present. \nAn Evening with William Dalrymple promises to be a compelling journey through time\, revealing the enduring impact of India’s ancient wisdom on our modern world. \nGET TICKETS HERE: https://premier.ticketek.com.au/shows/show.aspx?sh=WBHDALRY25
URL:https://www.indianlink.com.au/whats-on/an-evening-with-william-dalrymple/
LOCATION:Astor Theatre Perth\, 659 Beaufort St\, Mount Lawley\, WA\, 6050\, Australia
ATTACH;FMTTYPE=image/png:https://p9dzm74w.tinifycdn.com/wp-content/uploads/2025/08/William-D.png
GEO:-31.9340655;115.8720236
X-APPLE-STRUCTURED-LOCATION;VALUE=URI;X-ADDRESS=Astor Theatre Perth 659 Beaufort St Mount Lawley WA 6050 Australia;X-APPLE-RADIUS=500;X-TITLE=659 Beaufort St:geo:115.8720236,-31.9340655
END:VEVENT
BEGIN:VEVENT
DTSTART;TZID=Australia/Sydney:20251107T080000
DTEND;TZID=Australia/Sydney:20251107T170000
DTSTAMP:20260423T170731
CREATED:20250819T013844Z
LAST-MODIFIED:20251106T012319Z
UID:10008697-1762502400-1762534800@www.indianlink.com.au
SUMMARY:An Evening with William Dalrymple
DESCRIPTION:  \nFrom 250 BCE to 1200 CE\, India was not merely a land of spiritual depth but a dynamic hub of innovation and exchange. Its contributions in mathematics\, astronomy\, medicine\, art and philosophy traversed the vast expanse from the Red Sea to the Pacific\, shaping cultures and ideas across continents. \nJoin one of the worlds most celebrated historians\, William Dalrymple\, for an illuminating evening as he delves into the rich tapestry of ancient Indian civilisation. Drawing upon a lifetime immersed in Indian culture and studying its history. \nDalrymple offers a panoramic view of India’s profound influence on the world as explored in his chart-topping podcast Empire and bestselling books including The Golden Road\, The Anarchy\, Return of a King and The Last Mughal. \nWeaving narratives of emperors\, monks\, merchants and scholars\, bringing to life the stories of India’s golden age\, Dalrymple examines how Indian thought influenced global traditions\, from the architectural marvels of Angkor Wat to the philosophical underpinnings of distant societies. \nThis event is more than a historical recount; it’s an exploration of how ancient India’s legacy continues to resonate today. Whether you’re a history enthusiast or a curious mind\, don’t miss this opportunity to gain insights from a master storyteller who brings the past vividly into the present. \nAn Evening with William Dalrymple promises to be a compelling journey through time\, revealing the enduring impact of India’s ancient wisdom on our modern world. \nDate & Place: Nov 7th – Perth\nNov 11th – Melbourne\nNov 13th – Adelaide \nGET TICKETS HERE: https://premier.ticketek.com.au/shows/show.aspx?sh=WBHDALRY25
URL:https://www.indianlink.com.au/whats-on/an-evening-with-william-dalrymple-3/2025-11-07/
LOCATION:Hamer Hall\, Saint Kilda Road\, Southbank\, Victoria\, 3004\, Australia
ATTACH;FMTTYPE=image/png:https://p9dzm74w.tinifycdn.com/wp-content/uploads/2025/08/William-D-1.png
GEO:-37.8201562;144.9679812
X-APPLE-STRUCTURED-LOCATION;VALUE=URI;X-ADDRESS=Hamer Hall Saint Kilda Road Southbank Victoria 3004 Australia;X-APPLE-RADIUS=500;X-TITLE=Saint Kilda Road:geo:144.9679812,-37.8201562
END:VEVENT
BEGIN:VEVENT
DTSTART;TZID=Australia/Sydney:20250213T191500
DTEND;TZID=Australia/Sydney:20250213T210000
DTSTAMP:20260423T170731
CREATED:20250121T060139Z
LAST-MODIFIED:20250128T223926Z
UID:10002464-1739474100-1739480400@www.indianlink.com.au
SUMMARY:Alok Vaid-Menon
DESCRIPTION:  \nFlippant and fabulous. Wicked sharp and delightfully silly. This is Hairy Situation. \nBeing trans and Indian is a textbook hairy situation\, but since textbooks are being banned all over the US we are no longer at liberty to say that. \nIn their new standup show ALOK keeps finding themselves in hairy situations: being mistaken as a mega-famous Brazilian DJ\, botching TikTok makeup tutorials and signing up for an appointment at the European Wax Center (AKA Taylor Swift’s Tortured Poets Department). \nGET TICKETS HERE: ALOK Australia & New Zealand Tour | Event Tickets & Info
URL:https://www.indianlink.com.au/whats-on/alok-vaid-menon/
LOCATION:Astor Theatre Perth\, 659 Beaufort St\, Mount Lawley\, WA\, 6050\, Australia
ATTACH;FMTTYPE=image/png:https://p9dzm74w.tinifycdn.com/wp-content/uploads/2025/01/Alok-2.png
GEO:-31.9340655;115.8720236
X-APPLE-STRUCTURED-LOCATION;VALUE=URI;X-ADDRESS=Astor Theatre Perth 659 Beaufort St Mount Lawley WA 6050 Australia;X-APPLE-RADIUS=500;X-TITLE=659 Beaufort St:geo:115.8720236,-31.9340655
END:VEVENT
END:VCALENDAR