BEGIN:VCALENDAR
VERSION:2.0
PRODID:-//Indian Link - ECPv6.15.20//NONSGML v1.0//EN
CALSCALE:GREGORIAN
METHOD:PUBLISH
X-WR-CALNAME:Indian Link
X-ORIGINAL-URL:https://www.indianlink.com.au
X-WR-CALDESC:Events for Indian Link
REFRESH-INTERVAL;VALUE=DURATION:PT1H
X-Robots-Tag:noindex
X-PUBLISHED-TTL:PT1H
BEGIN:VTIMEZONE
TZID:Australia/Sydney
BEGIN:STANDARD
TZOFFSETFROM:+1100
TZOFFSETTO:+1000
TZNAME:AEST
DTSTART:20240406T160000
END:STANDARD
BEGIN:DAYLIGHT
TZOFFSETFROM:+1000
TZOFFSETTO:+1100
TZNAME:AEDT
DTSTART:20241005T160000
END:DAYLIGHT
BEGIN:STANDARD
TZOFFSETFROM:+1100
TZOFFSETTO:+1000
TZNAME:AEST
DTSTART:20250405T160000
END:STANDARD
BEGIN:DAYLIGHT
TZOFFSETFROM:+1000
TZOFFSETTO:+1100
TZNAME:AEDT
DTSTART:20251004T160000
END:DAYLIGHT
BEGIN:STANDARD
TZOFFSETFROM:+1100
TZOFFSETTO:+1000
TZNAME:AEST
DTSTART:20260404T160000
END:STANDARD
BEGIN:DAYLIGHT
TZOFFSETFROM:+1000
TZOFFSETTO:+1100
TZNAME:AEDT
DTSTART:20261003T160000
END:DAYLIGHT
END:VTIMEZONE
BEGIN:VEVENT
DTSTART;VALUE=DATE:20250830
DTEND;VALUE=DATE:20250831
DTSTAMP:20260426T101622
CREATED:20250827T012139Z
LAST-MODIFIED:20250827T012139Z
UID:10008547-1756512000-1756598399@www.indianlink.com.au
SUMMARY:Onam Celebration in Adelaide 2025
DESCRIPTION:The Adelaide & Metropolitan Malayalee Association (AMMA) invites you to an unforgettable day of culture\, tradition and unity at the Onam Celebration in Adelaide on August 30th at Angkor Hall\, Parafield Gardens\, South Australia. \nThis annual event brings the Malayalee community of Adelaide together to honor the spirit of King Mahabali and experience the grandeur of Kerala’s most iconic festival — Onam. \nProgramme schedule highlights: \n\nOnappookkalam – Traditional floral decoration competition\nOnachantha – Kerala-style marketplace\nThiruvathira – Graceful women’s group dance performance\nChendamelam – Traditional Kerala percussion performance\nOnasadya – Authentic Onam vegetarian feast served on banana leaves\nCultural Programs – Dance\, music and skits from the local Malayalee community\n\nWhy you should attend Onam Celebration in Adelaide: \nThis event is more than just a celebration — it’s a cultural immersion into Kerala’s traditions\, open to all communities. It’s an ideal platform for families\, students and multicultural groups to connect and learn about one of India’s most vibrant festivals. \nGet your tickets here: https://indiglo.com.au/event/onam-celebration-in-adelaide-2025/
URL:https://www.indianlink.com.au/whats-on/onam-celebration-in-adelaide-2025/
LOCATION:Angkor Hall\, 376-386 Salisbury Highway\, Parafield Gardens\, SA\, 5107\, Australia
ATTACH;FMTTYPE=image/png:https://p9dzm74w.tinifycdn.com/wp-content/uploads/2025/08/Onam-Celebration.png
GEO:-34.7829208;138.6238069
X-APPLE-STRUCTURED-LOCATION;VALUE=URI;X-ADDRESS=Angkor Hall 376-386 Salisbury Highway Parafield Gardens SA 5107 Australia;X-APPLE-RADIUS=500;X-TITLE=376-386 Salisbury Highway:geo:138.6238069,-34.7829208
END:VEVENT
END:VCALENDAR