BEGIN:VCALENDAR
VERSION:2.0
PRODID:-//Indian Link - ECPv6.15.20//NONSGML v1.0//EN
CALSCALE:GREGORIAN
METHOD:PUBLISH
X-ORIGINAL-URL:https://www.indianlink.com.au
X-WR-CALDESC:Events for Indian Link
REFRESH-INTERVAL;VALUE=DURATION:PT1H
X-Robots-Tag:noindex
X-PUBLISHED-TTL:PT1H
BEGIN:VTIMEZONE
TZID:Australia/Sydney
BEGIN:STANDARD
TZOFFSETFROM:+1100
TZOFFSETTO:+1000
TZNAME:AEST
DTSTART:20240406T160000
END:STANDARD
BEGIN:DAYLIGHT
TZOFFSETFROM:+1000
TZOFFSETTO:+1100
TZNAME:AEDT
DTSTART:20241005T160000
END:DAYLIGHT
BEGIN:STANDARD
TZOFFSETFROM:+1100
TZOFFSETTO:+1000
TZNAME:AEST
DTSTART:20250405T160000
END:STANDARD
BEGIN:DAYLIGHT
TZOFFSETFROM:+1000
TZOFFSETTO:+1100
TZNAME:AEDT
DTSTART:20251004T160000
END:DAYLIGHT
BEGIN:STANDARD
TZOFFSETFROM:+1100
TZOFFSETTO:+1000
TZNAME:AEST
DTSTART:20260404T160000
END:STANDARD
BEGIN:DAYLIGHT
TZOFFSETFROM:+1000
TZOFFSETTO:+1100
TZNAME:AEDT
DTSTART:20261003T160000
END:DAYLIGHT
END:VTIMEZONE
BEGIN:VEVENT
DTSTART;VALUE=DATE:20250913
DTEND;VALUE=DATE:20250929
DTSTAMP:20260423T213843
CREATED:20250916T064436Z
LAST-MODIFIED:20250916T064436Z
UID:10008605-1757721600-1759103999@www.indianlink.com.au
SUMMARY:Maestros of India – Live in Concert: Presented by Shruthi Adelaide
DESCRIPTION:  \nCome witness two torchbearers of the Benaras Gharana perform in an evening that promises mastery and magic. \nPandit Rajendra Prasanna: A globally acclaimed maestro of Bansuri and Shehnai\, Pt. Rajendra Prasanna hails from the illustrious Benaras Gharana. Known for his rare mastery of both instruments\, he has performed at prestigious venues worldwide including the Sydney Opera House and Royal Albert Hall. Honoured with numerous awards including the National Sangeet Natak Akademi Award and a Grammy certificate\, he is a torchbearer of India’s classical music heritage. \nPandit Abhishek Mishra: An accomplished Tabla virtuoso from a renowned lineage of the Banaras Gharana\, Pt. Abhishek Mishra began his training at age five. He has accompanied legendary artists such as Pt. Birju Maharaj and Smt. Girija Devi\, earning acclaim for his depth\, rhythm\, and musical finesse. With seven generations of musical heritage\, he brings profound tradition to every performance. \nA once-in-a-lifetime opportunity to immerse yourself in the melodious history of Indian classical music\, brought to life by the maestros. \nGET TICKETS HERE: https://southaustralia.com/products/adelaide/event/maestros-of-india-live-in-concert-presented-by-shruthi-adelaide
URL:https://www.indianlink.com.au/whats-on/maestros-of-india-live-in-concert-presented-by-shruthi-adelaide/
LOCATION:46 Cowan St\, Angle Park\, Adelaide\, South Australia\, 5010\, Australia
ATTACH;FMTTYPE=image/jpeg:https://p9dzm74w.tinifycdn.com/wp-content/uploads/2025/09/Indian-Classical-music-Shruthi-Adelaide-scaled.jpg
GEO:-34.8591132;138.5606592
X-APPLE-STRUCTURED-LOCATION;VALUE=URI;X-ADDRESS=46 Cowan St Angle Park Adelaide South Australia 5010 Australia;X-APPLE-RADIUS=500;X-TITLE=Angle Park:geo:138.5606592,-34.8591132
END:VEVENT
END:VCALENDAR