BEGIN:VCALENDAR
VERSION:2.0
PRODID:-//Indian Link - ECPv6.15.20//NONSGML v1.0//EN
CALSCALE:GREGORIAN
METHOD:PUBLISH
X-ORIGINAL-URL:https://www.indianlink.com.au
X-WR-CALDESC:Events for Indian Link
REFRESH-INTERVAL;VALUE=DURATION:PT1H
X-Robots-Tag:noindex
X-PUBLISHED-TTL:PT1H
BEGIN:VTIMEZONE
TZID:Australia/Sydney
BEGIN:STANDARD
TZOFFSETFROM:+1100
TZOFFSETTO:+1000
TZNAME:AEST
DTSTART:20240406T160000
END:STANDARD
BEGIN:DAYLIGHT
TZOFFSETFROM:+1000
TZOFFSETTO:+1100
TZNAME:AEDT
DTSTART:20241005T160000
END:DAYLIGHT
BEGIN:STANDARD
TZOFFSETFROM:+1100
TZOFFSETTO:+1000
TZNAME:AEST
DTSTART:20250405T160000
END:STANDARD
BEGIN:DAYLIGHT
TZOFFSETFROM:+1000
TZOFFSETTO:+1100
TZNAME:AEDT
DTSTART:20251004T160000
END:DAYLIGHT
BEGIN:STANDARD
TZOFFSETFROM:+1100
TZOFFSETTO:+1000
TZNAME:AEST
DTSTART:20260404T160000
END:STANDARD
BEGIN:DAYLIGHT
TZOFFSETFROM:+1000
TZOFFSETTO:+1100
TZNAME:AEDT
DTSTART:20261003T160000
END:DAYLIGHT
END:VTIMEZONE
BEGIN:VEVENT
DTSTART;TZID=Australia/Sydney:20250122T193000
DTEND;TZID=Australia/Sydney:20250122T220000
DTSTAMP:20260423T122903
CREATED:20250106T062350Z
LAST-MODIFIED:20250106T062350Z
UID:10002441-1737574200-1737583200@www.indianlink.com.au
SUMMARY:Parvyn w/ Josh Bennett (Quartet)
DESCRIPTION:  \nGenre-drifting pop melds with classical Indian raga as Punjabi Australian vocalist Parvyn performs her sophomore album\, Maujuda. \n  \nGET TICKETS HERE: Parvyn w/ Josh Bennett (Quartet) Tickets\, Wed\, Jan 22\, 2025 at 7:30 PM | Eventbrite
URL:https://www.indianlink.com.au/whats-on/parvyn-w-josh-bennett-quartet/
LOCATION:280 Sydney Rd\, Sydney Road 20\, Brunswick\, VIC\, 3056\, Australia
ATTACH;FMTTYPE=image/png:https://p9dzm74w.tinifycdn.com/wp-content/uploads/2025/01/Parvyn-1.png
GEO:-37.7773295;144.9608338
X-APPLE-STRUCTURED-LOCATION;VALUE=URI;X-ADDRESS=280 Sydney Rd Sydney Road 20 Brunswick VIC 3056 Australia;X-APPLE-RADIUS=500;X-TITLE=Sydney Road 20:geo:144.9608338,-37.7773295
END:VEVENT
BEGIN:VEVENT
DTSTART;TZID=Australia/Sydney:20250104T193000
DTEND;TZID=Australia/Sydney:20250104T223000
DTSTAMP:20260423T122903
CREATED:20250103T134753Z
LAST-MODIFIED:20250103T134753Z
UID:10002430-1736019000-1736029800@www.indianlink.com.au
SUMMARY:Maujuda- Parvyn w/ Josh Bennett (Quartet)
DESCRIPTION:Experience the mesmerizing blend of genre-defying pop and classical Indian raga as Punjabi Australian vocalist Parvyn performs tracks from her sophomore album\, Maujuda.
URL:https://www.indianlink.com.au/whats-on/maujuda-parvyn-w-josh-bennett-quartet/
LOCATION:280 Sydney Rd\, Sydney Road 20\, Brunswick\, VIC\, 3056\, Australia
CATEGORIES:Happening in Melbourne
ATTACH;FMTTYPE=image/png:https://p9dzm74w.tinifycdn.com/wp-content/uploads/2025/01/maujuda-live-quartet-e1735911860228.png
GEO:-37.7773295;144.9608338
X-APPLE-STRUCTURED-LOCATION;VALUE=URI;X-ADDRESS=280 Sydney Rd Sydney Road 20 Brunswick VIC 3056 Australia;X-APPLE-RADIUS=500;X-TITLE=Sydney Road 20:geo:144.9608338,-37.7773295
END:VEVENT
END:VCALENDAR