BEGIN:VCALENDAR
VERSION:2.0
PRODID:-//Indian Link - ECPv6.15.20//NONSGML v1.0//EN
CALSCALE:GREGORIAN
METHOD:PUBLISH
X-ORIGINAL-URL:https://www.indianlink.com.au
X-WR-CALDESC:Events for Indian Link
REFRESH-INTERVAL;VALUE=DURATION:PT1H
X-Robots-Tag:noindex
X-PUBLISHED-TTL:PT1H
BEGIN:VTIMEZONE
TZID:Australia/Sydney
BEGIN:STANDARD
TZOFFSETFROM:+1100
TZOFFSETTO:+1000
TZNAME:AEST
DTSTART:20240406T160000
END:STANDARD
BEGIN:DAYLIGHT
TZOFFSETFROM:+1000
TZOFFSETTO:+1100
TZNAME:AEDT
DTSTART:20241005T160000
END:DAYLIGHT
BEGIN:STANDARD
TZOFFSETFROM:+1100
TZOFFSETTO:+1000
TZNAME:AEST
DTSTART:20250405T160000
END:STANDARD
BEGIN:DAYLIGHT
TZOFFSETFROM:+1000
TZOFFSETTO:+1100
TZNAME:AEDT
DTSTART:20251004T160000
END:DAYLIGHT
BEGIN:STANDARD
TZOFFSETFROM:+1100
TZOFFSETTO:+1000
TZNAME:AEST
DTSTART:20260404T160000
END:STANDARD
BEGIN:DAYLIGHT
TZOFFSETFROM:+1000
TZOFFSETTO:+1100
TZNAME:AEDT
DTSTART:20261003T160000
END:DAYLIGHT
END:VTIMEZONE
BEGIN:VEVENT
DTSTART;TZID=Australia/Sydney:20250209T180000
DTEND;TZID=Australia/Sydney:20250209T190000
DTSTAMP:20260423T170732
CREATED:20250128T231644Z
LAST-MODIFIED:20250128T231644Z
UID:10002474-1739124000-1739127600@www.indianlink.com.au
SUMMARY:Nazri - Featuring Maharshi Raval
DESCRIPTION:  \nNazri is an intercultural hybrid performance conceptualised and composed by award-winning composer Dr. Shervin Mirzeinali and funded by Creative Australia and the City of Sydney. This captivating production brings together music\, dance\, and the ancient Persian tradition of communal giving\, transforming it into a mesmerising and deeply moving artistic experience. \nAt the heart of Nazri lies the ritual where cooking food transcends sustenance\, becoming an expression of compassion\, unity\, and shared humanity. \nDr. Elnaz Sheshgelani\, an accomplished Iranian contemporary dancer\, draws inspiration from traditional Persian dance to reimagine the ritual for the modern stage. She uses the chador (Iranian veil) and everyday cooking utensils—trays\, skimmers\, colanders\, and beans—as poetic tools of storytelling. Her dynamic choreography embodies the essence of the ritual\, seamlessly blending grace\, strength\, and innovation. \nAdding depth to the performance are three virtuoso percussionists\, each representing a distinct cultural tradition: \n\nMaharshi Raval (Tabla)\nSohrab Kolahdooz (Tombak)\nNiki Johnson (Cymbals & Bass Drum)\n\nTogether\, they transform everyday cooking utensils into new sound objects\, innovatively integrating their unique techniques and cultural influences. The result is a vibrant soundscape that captures the essence of Nazri (the ritual)—from the rhythmic clinking of pots to the sizzle of cooking food and the murmured voices of a community united in ritual. Their collaboration weaves together diverse cultural roots\, creating a harmonious exploration of sound. \nGET TICKETS HERE: Nazri
URL:https://www.indianlink.com.au/whats-on/nazri-featuring-maharshi-raval/2025-02-09/
LOCATION:279 Broadway\, Glebe\, Forest Lodge\, NSW\, 2037\, Australia
ATTACH;FMTTYPE=image/png:https://p9dzm74w.tinifycdn.com/wp-content/uploads/2025/01/Nazri.png
GEO:-33.8802599;151.1840188
END:VEVENT
BEGIN:VEVENT
DTSTART;TZID=Australia/Sydney:20250208T200000
DTEND;TZID=Australia/Sydney:20250208T210000
DTSTAMP:20260423T170732
CREATED:20250128T231644Z
LAST-MODIFIED:20250128T231644Z
UID:10002473-1739044800-1739048400@www.indianlink.com.au
SUMMARY:Nazri - Featuring Maharshi Raval
DESCRIPTION:  \nNazri is an intercultural hybrid performance conceptualised and composed by award-winning composer Dr. Shervin Mirzeinali and funded by Creative Australia and the City of Sydney. This captivating production brings together music\, dance\, and the ancient Persian tradition of communal giving\, transforming it into a mesmerising and deeply moving artistic experience. \nAt the heart of Nazri lies the ritual where cooking food transcends sustenance\, becoming an expression of compassion\, unity\, and shared humanity. \nDr. Elnaz Sheshgelani\, an accomplished Iranian contemporary dancer\, draws inspiration from traditional Persian dance to reimagine the ritual for the modern stage. She uses the chador (Iranian veil) and everyday cooking utensils—trays\, skimmers\, colanders\, and beans—as poetic tools of storytelling. Her dynamic choreography embodies the essence of the ritual\, seamlessly blending grace\, strength\, and innovation. \nAdding depth to the performance are three virtuoso percussionists\, each representing a distinct cultural tradition: \n\nMaharshi Raval (Tabla)\nSohrab Kolahdooz (Tombak)\nNiki Johnson (Cymbals & Bass Drum)\n\nTogether\, they transform everyday cooking utensils into new sound objects\, innovatively integrating their unique techniques and cultural influences. The result is a vibrant soundscape that captures the essence of Nazri (the ritual)—from the rhythmic clinking of pots to the sizzle of cooking food and the murmured voices of a community united in ritual. Their collaboration weaves together diverse cultural roots\, creating a harmonious exploration of sound. \nGET TICKETS HERE: Nazri
URL:https://www.indianlink.com.au/whats-on/nazri-featuring-maharshi-raval/2025-02-08/
LOCATION:279 Broadway\, Glebe\, Forest Lodge\, NSW\, 2037\, Australia
ATTACH;FMTTYPE=image/png:https://p9dzm74w.tinifycdn.com/wp-content/uploads/2025/01/Nazri.png
GEO:-33.8802599;151.1840188
END:VEVENT
BEGIN:VEVENT
DTSTART;TZID=Australia/Sydney:20250207T200000
DTEND;TZID=Australia/Sydney:20250207T210000
DTSTAMP:20260423T170732
CREATED:20250128T231644Z
LAST-MODIFIED:20250128T231644Z
UID:10002472-1738958400-1738962000@www.indianlink.com.au
SUMMARY:Nazri - Featuring Maharshi Raval
DESCRIPTION:  \nNazri is an intercultural hybrid performance conceptualised and composed by award-winning composer Dr. Shervin Mirzeinali and funded by Creative Australia and the City of Sydney. This captivating production brings together music\, dance\, and the ancient Persian tradition of communal giving\, transforming it into a mesmerising and deeply moving artistic experience. \nAt the heart of Nazri lies the ritual where cooking food transcends sustenance\, becoming an expression of compassion\, unity\, and shared humanity. \nDr. Elnaz Sheshgelani\, an accomplished Iranian contemporary dancer\, draws inspiration from traditional Persian dance to reimagine the ritual for the modern stage. She uses the chador (Iranian veil) and everyday cooking utensils—trays\, skimmers\, colanders\, and beans—as poetic tools of storytelling. Her dynamic choreography embodies the essence of the ritual\, seamlessly blending grace\, strength\, and innovation. \nAdding depth to the performance are three virtuoso percussionists\, each representing a distinct cultural tradition: \n\nMaharshi Raval (Tabla)\nSohrab Kolahdooz (Tombak)\nNiki Johnson (Cymbals & Bass Drum)\n\nTogether\, they transform everyday cooking utensils into new sound objects\, innovatively integrating their unique techniques and cultural influences. The result is a vibrant soundscape that captures the essence of Nazri (the ritual)—from the rhythmic clinking of pots to the sizzle of cooking food and the murmured voices of a community united in ritual. Their collaboration weaves together diverse cultural roots\, creating a harmonious exploration of sound. \nGET TICKETS HERE: Nazri
URL:https://www.indianlink.com.au/whats-on/nazri-featuring-maharshi-raval/2025-02-07/
LOCATION:279 Broadway\, Glebe\, Forest Lodge\, NSW\, 2037\, Australia
ATTACH;FMTTYPE=image/png:https://p9dzm74w.tinifycdn.com/wp-content/uploads/2025/01/Nazri.png
GEO:-33.8802599;151.1840188
END:VEVENT
END:VCALENDAR