BEGIN:VCALENDAR
VERSION:2.0
PRODID:-//Indian Link - ECPv6.15.20//NONSGML v1.0//EN
CALSCALE:GREGORIAN
METHOD:PUBLISH
X-ORIGINAL-URL:https://www.indianlink.com.au
X-WR-CALDESC:Events for Indian Link
REFRESH-INTERVAL;VALUE=DURATION:PT1H
X-Robots-Tag:noindex
X-PUBLISHED-TTL:PT1H
BEGIN:VTIMEZONE
TZID:Australia/Sydney
BEGIN:STANDARD
TZOFFSETFROM:+1100
TZOFFSETTO:+1000
TZNAME:AEST
DTSTART:20240406T160000
END:STANDARD
BEGIN:DAYLIGHT
TZOFFSETFROM:+1000
TZOFFSETTO:+1100
TZNAME:AEDT
DTSTART:20241005T160000
END:DAYLIGHT
BEGIN:STANDARD
TZOFFSETFROM:+1100
TZOFFSETTO:+1000
TZNAME:AEST
DTSTART:20250405T160000
END:STANDARD
BEGIN:DAYLIGHT
TZOFFSETFROM:+1000
TZOFFSETTO:+1100
TZNAME:AEDT
DTSTART:20251004T160000
END:DAYLIGHT
BEGIN:STANDARD
TZOFFSETFROM:+1100
TZOFFSETTO:+1000
TZNAME:AEST
DTSTART:20260404T160000
END:STANDARD
BEGIN:DAYLIGHT
TZOFFSETFROM:+1000
TZOFFSETTO:+1100
TZNAME:AEDT
DTSTART:20261003T160000
END:DAYLIGHT
END:VTIMEZONE
BEGIN:VEVENT
DTSTART;TZID=Australia/Sydney:20250817T103000
DTEND;TZID=Australia/Sydney:20250817T133000
DTSTAMP:20260426T102331
CREATED:20250725T014809Z
LAST-MODIFIED:20250725T014809Z
UID:10008410-1755426600-1755437400@www.indianlink.com.au
SUMMARY:Hindustani Classical Vocal by Mitali Bhawmik
DESCRIPTION:  \nArtist bio: Mitali Banerjee Bhawmik started her musical training at a very early age from Sri Ajit Dutta\, followed by extensive training from Late Shree Biren Phukan in Guahati\, Assam. Subsequently she received training from Srimati Meera Banerjee\, the noted Kolkata-based vocalist. Since 1984\, Mitali was under the tutelage of late Padmabhushan Pandit V. G. Jog\, the famous violin maestro. Pandit Jog’s vast and extensive experience in the different musical styles and traditions has helped Mitali ji to blend the best of different gharanas in her music\, in contrast to sticking to a single traditional gharana style. This has been the essence of Pandit Jog’s philosophy in music and training methodology. Currently Mitali ji is expanding her repertoire in semi-classical (Thumri\, Dadra\, Kajri\, Chaiti\, Hori\, etc.) music from Smt. Dahlia Rahut\, a senior disciple of Smt. Girija Devi. She has performed in various prestigious venues in North America\, Europe and India and is also the director of Ethnomedia Music Studio\, where she trains students of music. \nAccompanying will be Melbourne’s very own Pandurang Toravi ji on tabla\, and Prasad Karve ji on Harmonium. \nGET TICKETS HERE: https://www.eventbrite.com/e/hindustani-classical-vocal-by-mitali-bhawmik-tickets-1470165286949 \n 
URL:https://www.indianlink.com.au/whats-on/hindustani-classical-vocal-by-mitali-bhawmik/
LOCATION:226 Kooyong Road Toorak\, VIC 3142\, 226 Kooyong Road\, Toorak\, Victoria\, 3142\, Australia
ATTACH;FMTTYPE=image/jpeg:https://p9dzm74w.tinifycdn.com/wp-content/uploads/2025/07/IMG_9573.jpeg
GEO:-37.8406731;145.0242013
X-APPLE-STRUCTURED-LOCATION;VALUE=URI;X-ADDRESS=226 Kooyong Road Toorak VIC 3142 226 Kooyong Road Toorak Victoria 3142 Australia;X-APPLE-RADIUS=500;X-TITLE=226 Kooyong Road:geo:145.0242013,-37.8406731
END:VEVENT
END:VCALENDAR