BEGIN:VCALENDAR
VERSION:2.0
PRODID:-//Indian Link - ECPv6.15.20//NONSGML v1.0//EN
CALSCALE:GREGORIAN
METHOD:PUBLISH
X-WR-CALNAME:Indian Link
X-ORIGINAL-URL:https://www.indianlink.com.au
X-WR-CALDESC:Events for Indian Link
REFRESH-INTERVAL;VALUE=DURATION:PT1H
X-Robots-Tag:noindex
X-PUBLISHED-TTL:PT1H
BEGIN:VTIMEZONE
TZID:Australia/Sydney
BEGIN:STANDARD
TZOFFSETFROM:+1100
TZOFFSETTO:+1000
TZNAME:AEST
DTSTART:20240406T160000
END:STANDARD
BEGIN:DAYLIGHT
TZOFFSETFROM:+1000
TZOFFSETTO:+1100
TZNAME:AEDT
DTSTART:20241005T160000
END:DAYLIGHT
BEGIN:STANDARD
TZOFFSETFROM:+1100
TZOFFSETTO:+1000
TZNAME:AEST
DTSTART:20250405T160000
END:STANDARD
BEGIN:DAYLIGHT
TZOFFSETFROM:+1000
TZOFFSETTO:+1100
TZNAME:AEDT
DTSTART:20251004T160000
END:DAYLIGHT
BEGIN:STANDARD
TZOFFSETFROM:+1100
TZOFFSETTO:+1000
TZNAME:AEST
DTSTART:20260404T160000
END:STANDARD
BEGIN:DAYLIGHT
TZOFFSETFROM:+1000
TZOFFSETTO:+1100
TZNAME:AEDT
DTSTART:20261003T160000
END:DAYLIGHT
END:VTIMEZONE
BEGIN:VEVENT
DTSTART;VALUE=DATE:20250902
DTEND;VALUE=DATE:20250928
DTSTAMP:20260426T032138
CREATED:20250820T024820Z
LAST-MODIFIED:20250820T024820Z
UID:10008447-1756771200-1759017599@www.indianlink.com.au
SUMMARY:The Racist Immigrants - Sydney Fringe Festival
DESCRIPTION:  \nJust your immigrants next door attempting to assimilate\nImmigrants and raci*t?! Whaaa !?\nAn hour of unabashed comedy that will leave you crying with laughter and questioning everything you know about immigrants and cultures as it attempts to break all stereotypes.\nFood\, culture\, taxis\, boats\, n*de beaches\, Chinese bat soup. Nothing is off limit. \nGET TICKETS HERE: https://sydneyfringe.com/events/the-racist-immigrants/
URL:https://www.indianlink.com.au/whats-on/the-racist-immigrants-sydney-fringe-festival/
LOCATION:104 Erskineville Road\, Erskineville\, Sydney\, NSW\, 2043\, Australia
ATTACH;FMTTYPE=image/png:https://p9dzm74w.tinifycdn.com/wp-content/uploads/2025/08/whats-on.png
GEO:-33.9023649;151.1854757
X-APPLE-STRUCTURED-LOCATION;VALUE=URI;X-ADDRESS=104 Erskineville Road Erskineville Sydney NSW 2043 Australia;X-APPLE-RADIUS=500;X-TITLE=Erskineville:geo:151.1854757,-33.9023649
END:VEVENT
END:VCALENDAR