BEGIN:VCALENDAR
VERSION:2.0
PRODID:-//Indian Link - ECPv6.15.20//NONSGML v1.0//EN
CALSCALE:GREGORIAN
METHOD:PUBLISH
X-ORIGINAL-URL:https://www.indianlink.com.au
X-WR-CALDESC:Events for Indian Link
REFRESH-INTERVAL;VALUE=DURATION:PT1H
X-Robots-Tag:noindex
X-PUBLISHED-TTL:PT1H
BEGIN:VTIMEZONE
TZID:Australia/Sydney
BEGIN:STANDARD
TZOFFSETFROM:+1100
TZOFFSETTO:+1000
TZNAME:AEST
DTSTART:20240406T160000
END:STANDARD
BEGIN:DAYLIGHT
TZOFFSETFROM:+1000
TZOFFSETTO:+1100
TZNAME:AEDT
DTSTART:20241005T160000
END:DAYLIGHT
BEGIN:STANDARD
TZOFFSETFROM:+1100
TZOFFSETTO:+1000
TZNAME:AEST
DTSTART:20250405T160000
END:STANDARD
BEGIN:DAYLIGHT
TZOFFSETFROM:+1000
TZOFFSETTO:+1100
TZNAME:AEDT
DTSTART:20251004T160000
END:DAYLIGHT
BEGIN:STANDARD
TZOFFSETFROM:+1100
TZOFFSETTO:+1000
TZNAME:AEST
DTSTART:20260404T160000
END:STANDARD
BEGIN:DAYLIGHT
TZOFFSETFROM:+1000
TZOFFSETTO:+1100
TZNAME:AEDT
DTSTART:20261003T160000
END:DAYLIGHT
END:VTIMEZONE
BEGIN:VEVENT
DTSTART;TZID=Australia/Sydney:20250722T164321
DTEND;TZID=Australia/Sydney:20250722T164321
DTSTAMP:20260423T173127
CREATED:20250722T064321Z
LAST-MODIFIED:20250722T064321Z
UID:10008405-1753202601-1753202601@www.indianlink.com.au
SUMMARY:IFFM Awards Night 2025 Live In Melbourne
DESCRIPTION:Get ready for a night of glitz\, glamour\, and cinematic celebration as the Indian Film Festival of Melbourne (IFFM) returns with its most awaited event – the IFFM Awards Night 2025! \nHappening in the heart of Melbourne\, this star-studded evening brings together the biggest names from Indian cinema\, the Australian screen industry\, and global film lovers for one unforgettable night. Expect red carpet moments\, powerful performances\, and emotional tributes as artists\, filmmakers\, and storytellers are honoured for their contributions to cinema. \nFrom mainstream blockbusters to indie gems\, the IFFM Awards Night celebrates diversity\, storytelling\, and creative excellence. Whether you’re a die-hard Bollywood buff\, a South Asian film fan\, or just someone who loves a good story well told — this is the event to witness. \n🎥 Catch the magic. Celebrate the stories. Only at IFFM 2025.
URL:https://www.indianlink.com.au/whats-on/iffm-awards-night-2025-live-in-melbourne/
LOCATION:Plenary\, Melbourne Convention and Exhibition Centre\, 1 Convention Centre Place\, South Wharf\, VIC\, 3006\, Australia
CATEGORIES:Arts,Happening in Melbourne
ATTACH;FMTTYPE=image/png:https://p9dzm74w.tinifycdn.com/wp-content/uploads/2025/07/IFFM-Awards-night.png
GEO:-37.8251777;144.9523042
X-APPLE-STRUCTURED-LOCATION;VALUE=URI;X-ADDRESS=Plenary Melbourne Convention and Exhibition Centre 1 Convention Centre Place South Wharf VIC 3006 Australia;X-APPLE-RADIUS=500;X-TITLE=1 Convention Centre Place:geo:144.9523042,-37.8251777
END:VEVENT
END:VCALENDAR