BEGIN:VCALENDAR
VERSION:2.0
PRODID:-//Indian Link - ECPv6.15.20//NONSGML v1.0//EN
CALSCALE:GREGORIAN
METHOD:PUBLISH
X-ORIGINAL-URL:https://www.indianlink.com.au
X-WR-CALDESC:Events for Indian Link
REFRESH-INTERVAL;VALUE=DURATION:PT1H
X-Robots-Tag:noindex
X-PUBLISHED-TTL:PT1H
BEGIN:VTIMEZONE
TZID:Australia/Sydney
BEGIN:STANDARD
TZOFFSETFROM:+1100
TZOFFSETTO:+1000
TZNAME:AEST
DTSTART:20240406T160000
END:STANDARD
BEGIN:DAYLIGHT
TZOFFSETFROM:+1000
TZOFFSETTO:+1100
TZNAME:AEDT
DTSTART:20241005T160000
END:DAYLIGHT
BEGIN:STANDARD
TZOFFSETFROM:+1100
TZOFFSETTO:+1000
TZNAME:AEST
DTSTART:20250405T160000
END:STANDARD
BEGIN:DAYLIGHT
TZOFFSETFROM:+1000
TZOFFSETTO:+1100
TZNAME:AEDT
DTSTART:20251004T160000
END:DAYLIGHT
BEGIN:STANDARD
TZOFFSETFROM:+1100
TZOFFSETTO:+1000
TZNAME:AEST
DTSTART:20260404T160000
END:STANDARD
BEGIN:DAYLIGHT
TZOFFSETFROM:+1000
TZOFFSETTO:+1100
TZNAME:AEDT
DTSTART:20261003T160000
END:DAYLIGHT
END:VTIMEZONE
BEGIN:VEVENT
DTSTART;TZID=Australia/Sydney:20250117T190000
DTEND;TZID=Australia/Sydney:20250117T210000
DTSTAMP:20260423T103018
CREATED:20240814T010710Z
LAST-MODIFIED:20250107T064720Z
UID:10002088-1737140400-1737147600@www.indianlink.com.au
SUMMARY:As We Speak - LIVE in Melbourne
DESCRIPTION:“When we are performing on stage\, in composing mode or creating mode\, we are basically having a conversation. So\, the music emerges as we speak” – Zakir Hussain \nPrepare to be mesmerized as four musical legends—Béla Fleck\, Zakir Hussain\, Edgar Meyer\, and Rakesh Chaurasia—unite on stage to perform their Grammy-winning masterpiece As We Speak. This extraordinary ensemble weaves together the intricate rhythms of Indian classical music\, the refined elegance of Western classical\, and the soulful pulse of Bluegrass. Each note is a conversation\, a seamless blend of improvisation and mastery\, as these virtuosos glide effortlessly from the cerebral complexity of raga to the deep groove of a funky bass line. \nCollectively boasting 31 GRAMMY Awards\, these artists promise an evening of unparalleled musical brilliance. \nGet your Tickets Now!!!
URL:https://www.indianlink.com.au/whats-on/as-we-speak-live-in-melbourne/
LOCATION:Hammer Hall\, 100 St Kilda Rd\, Southbank\, VIC\, 3004\, Australia
CATEGORIES:Classical Music,Happening in Melbourne
ATTACH;FMTTYPE=image/png:https://p9dzm74w.tinifycdn.com/wp-content/uploads/2024/08/As-we-speak.png
ORGANIZER;CN="Marching Elephants Entertainment":MAILTO:laughtertour@gmail.com
GEO:-37.8201562;144.9679812
X-APPLE-STRUCTURED-LOCATION;VALUE=URI;X-ADDRESS=Hammer Hall 100 St Kilda Rd Southbank VIC 3004 Australia;X-APPLE-RADIUS=500;X-TITLE=100 St Kilda Rd:geo:144.9679812,-37.8201562
END:VEVENT
END:VCALENDAR