BEGIN:VCALENDAR
VERSION:2.0
PRODID:-//Indian Link - ECPv6.15.20//NONSGML v1.0//EN
CALSCALE:GREGORIAN
METHOD:PUBLISH
X-WR-CALNAME:Indian Link
X-ORIGINAL-URL:https://www.indianlink.com.au
X-WR-CALDESC:Events for Indian Link
REFRESH-INTERVAL;VALUE=DURATION:PT1H
X-Robots-Tag:noindex
X-PUBLISHED-TTL:PT1H
BEGIN:VTIMEZONE
TZID:Australia/Sydney
BEGIN:STANDARD
TZOFFSETFROM:+1100
TZOFFSETTO:+1000
TZNAME:AEST
DTSTART:20240406T160000
END:STANDARD
BEGIN:DAYLIGHT
TZOFFSETFROM:+1000
TZOFFSETTO:+1100
TZNAME:AEDT
DTSTART:20241005T160000
END:DAYLIGHT
BEGIN:STANDARD
TZOFFSETFROM:+1100
TZOFFSETTO:+1000
TZNAME:AEST
DTSTART:20250405T160000
END:STANDARD
BEGIN:DAYLIGHT
TZOFFSETFROM:+1000
TZOFFSETTO:+1100
TZNAME:AEDT
DTSTART:20251004T160000
END:DAYLIGHT
BEGIN:STANDARD
TZOFFSETFROM:+1100
TZOFFSETTO:+1000
TZNAME:AEST
DTSTART:20260404T160000
END:STANDARD
BEGIN:DAYLIGHT
TZOFFSETFROM:+1000
TZOFFSETTO:+1100
TZNAME:AEDT
DTSTART:20261003T160000
END:DAYLIGHT
END:VTIMEZONE
BEGIN:VEVENT
DTSTART;TZID=Australia/Sydney:20250424T180000
DTEND;TZID=Australia/Sydney:20250424T223000
DTSTAMP:20260423T042141
CREATED:20250331T005432Z
LAST-MODIFIED:20250331T005432Z
UID:10003067-1745517600-1745533800@www.indianlink.com.au
SUMMARY:WAVES IN AUSTRALIA – A Night of Electrifying Performances!
DESCRIPTION:  \nGet ready for an unforgettable evening as the Maitland Malayalee Association proudly presents WAVES IN AUSTRALIA! A high-energy musical extravaganza featuring a stellar lineup of sensational artists who are ready to set the stage on fire! \nHeadlining the event are: \n\nDayana Hameed – A mesmerising presence with a voice that touches hearts!\nNanda J Devan – The powerhouse performer with an electrifying stage presence!\nBagio Babu – The soulful maestro ready to take you on a musical journey!\nSreerag Bharathan – The voice that blends passion and melody like never before!\nAnanthu Gopi – A musical genius with magic at his fingertips!\nRinosh Surendran – The dynamic entertainer who knows how to get the crowd grooving!\n\nExpect a night filled with: \n\nHeart-thumping music\nElectrifying performances\nUnstoppable energy\nA celebration of culture and talent!\n\nDon’t miss this once-in-a-lifetime opportunity to experience music like never before! \nGET TICKETS HERE: Waves in Australia – Eventik
URL:https://www.indianlink.com.au/whats-on/waves-in-australia-a-night-of-electrifying-performances/
LOCATION:Callaghan College Jesmond Campus\, Janet Street\, Jesmond NSW\, Sydney\, NSW\, 2299\, Australia
ATTACH;FMTTYPE=image/png:https://p9dzm74w.tinifycdn.com/wp-content/uploads/2025/03/Waves-in-Australia.png
GEO:-32.9018906;151.6963185
X-APPLE-STRUCTURED-LOCATION;VALUE=URI;X-ADDRESS=Callaghan College Jesmond Campus Janet Street Jesmond NSW Sydney NSW 2299 Australia;X-APPLE-RADIUS=500;X-TITLE=Janet Street\, Jesmond NSW:geo:151.6963185,-32.9018906
END:VEVENT
END:VCALENDAR