BEGIN:VCALENDAR
VERSION:2.0
PRODID:-//Indian Link - ECPv6.15.20//NONSGML v1.0//EN
CALSCALE:GREGORIAN
METHOD:PUBLISH
X-WR-CALNAME:Indian Link
X-ORIGINAL-URL:https://www.indianlink.com.au
X-WR-CALDESC:Events for Indian Link
REFRESH-INTERVAL;VALUE=DURATION:PT1H
X-Robots-Tag:noindex
X-PUBLISHED-TTL:PT1H
BEGIN:VTIMEZONE
TZID:Australia/Sydney
BEGIN:STANDARD
TZOFFSETFROM:+1100
TZOFFSETTO:+1000
TZNAME:AEST
DTSTART:20240406T160000
END:STANDARD
BEGIN:DAYLIGHT
TZOFFSETFROM:+1000
TZOFFSETTO:+1100
TZNAME:AEDT
DTSTART:20241005T160000
END:DAYLIGHT
BEGIN:STANDARD
TZOFFSETFROM:+1100
TZOFFSETTO:+1000
TZNAME:AEST
DTSTART:20250405T160000
END:STANDARD
BEGIN:DAYLIGHT
TZOFFSETFROM:+1000
TZOFFSETTO:+1100
TZNAME:AEDT
DTSTART:20251004T160000
END:DAYLIGHT
BEGIN:STANDARD
TZOFFSETFROM:+1100
TZOFFSETTO:+1000
TZNAME:AEST
DTSTART:20260404T160000
END:STANDARD
BEGIN:DAYLIGHT
TZOFFSETFROM:+1000
TZOFFSETTO:+1100
TZNAME:AEDT
DTSTART:20261003T160000
END:DAYLIGHT
END:VTIMEZONE
BEGIN:VEVENT
DTSTART;TZID=Australia/Sydney:20250329T110000
DTEND;TZID=Australia/Sydney:20250329T220000
DTSTAMP:20260423T063005
CREATED:20250107T003729Z
LAST-MODIFIED:20250107T003729Z
UID:10002450-1743246000-1743285600@www.indianlink.com.au
SUMMARY:Holi Festival Melbourne CBD
DESCRIPTION:  \nMelbourne Holi Festival’s main objective is to celebrate unity in diversity and bring our communities together on the occasion of Holi – Festival of Colours \nIt’s TWO whole days (and evenings) of celebrating with Colours – Song & Dance – Food & Drinks – Culture – Live Performances… and much\, much more!
URL:https://www.indianlink.com.au/whats-on/holi-festival-melbourne-cbd/
LOCATION:Ron Barassi Senior Park West\, Docklands Drive\, Docklands\, VIC\, 3008\, Australia
CATEGORIES:Community,Festival
ATTACH;FMTTYPE=image/jpeg:https://p9dzm74w.tinifycdn.com/wp-content/uploads/2025/01/https-cdn.evbuc_.com-images-922364343-36809088512-1-original.20241223-095646.jpeg
GEO:-37.8146686;144.9383432
X-APPLE-STRUCTURED-LOCATION;VALUE=URI;X-ADDRESS=Ron Barassi Senior Park West Docklands Drive Docklands VIC 3008 Australia;X-APPLE-RADIUS=500;X-TITLE=Docklands Drive:geo:144.9383432,-37.8146686
END:VEVENT
END:VCALENDAR